BEGIN:VCALENDAR
VERSION:2.0
PRODID:-//ChamberMaster//Event Calendar 2.0//EN
METHOD:PUBLISH
X-PUBLISHED-TTL:P3D
REFRESH-INTERVAL:P3D
CALSCALE:GREGORIAN
BEGIN:VEVENT
DTSTART:20170512T134500Z
DTEND:20170512T150000Z
X-MICROSOFT-CDO-ALLDAYEVENT:FALSE
SUMMARY:Community Banks of Colo present Grass Roots Marketing
DESCRIPTION:Community Banks of Colo presents Grass Roots Marketing Come prepared to contribute to the roundtable discussion as we focus on creative ways you may have succeeded in growing your business.and brand. Explore what others may have done to overcome some of the obstacles you are facing as you grow your book of business.This group is focused on learning and exploring relevant business topics where we all learn from and coach each other.
X-ALT-DESC;FMTTYPE=text/html:Community Banks of Colo presents Grass Roots Marketing Come prepared to contribute to the roundtable discussion as we focus on creative ways you may have succeeded in growing your business.and brand. Explore what others may have done to overcome some of the obstacles you are facing as you grow your book of business.This group is focused on learning and exploring relevant business topics where we all learn from and coach each other.
LOCATION:Community Banks of Colorado - 3780 West 10th Street - Greeley - Friday\, May 12th from 7:45am to 9am
UID:e.2900.53
SEQUENCE:3
DTSTAMP:20260425T021235Z
URL:https://business.windsorchamber.net/events/details/community-banks-of-colo-present-grass-roots-marketing-53
END:VEVENT

END:VCALENDAR
