BEGIN:VCALENDAR
VERSION:2.0
PRODID:-//ChamberMaster//Event Calendar 2.0//EN
METHOD:PUBLISH
X-PUBLISHED-TTL:P3D
REFRESH-INTERVAL:P3D
CALSCALE:GREGORIAN
BEGIN:VEVENT
DTSTART:20180606T000000Z
DTEND:20180606T020000Z
X-MICROSOFT-CDO-ALLDAYEVENT:FALSE
SUMMARY:Community Bike Night - June 5
DESCRIPTION:The Town of Windsor's annual Bike Night is just around the corner.  The Police Department and the Windsor Optimist Club will hold the community event from 6-8pm Tuesday\, June 5 at Boardwalk Park .  The evening will kick off with a family-friendly bike parade around Windsor Lake at 6:15pm led by a bicycle patrol officer.  After the parade\, kids under 12 years old are invited to participate in bicycle safety stations: an obstacle course\, bicycle registration\, helmet giveaways\, and helmet and bike safety checks.  At check-in\, safety station participants will be given a passport.  Once complete\, passports can be turned in for a prize pack.  Helmets and prize packs will be provided on a first-come\, first-served basis while supplies last.   The Police Department will offer $3 per person hamburger or hot dog meal deals.  Proceeds will benefit the Windsor Optimist Club.  The event is also sponsored by Spokes Bicycles and the Johnny Jacoby Community Foundation.
X-ALT-DESC;FMTTYPE=text/html:The Town of Windsor&#39\;s annual Bike Night is just around the corner.&nbsp\; The Police Department and the Windsor Optimist Club will hold the community event from 6-8pm Tuesday\, June 5 at Boardwalk Park .&nbsp\; The evening will kick off with a family-friendly bike parade around Windsor Lake at 6:15pm led by a bicycle patrol officer.&nbsp\; After the parade\, kids under 12 years old are invited to participate in bicycle safety stations: an obstacle course\, bicycle registration\, helmet giveaways\, and helmet and bike safety checks.&nbsp\; At check-in\, safety station participants will be given a passport.&nbsp\; Once complete\, passports can be turned in for a prize pack.&nbsp\; Helmets and prize packs will be provided on a first-come\, first-served basis while supplies last.&nbsp\;&nbsp\; The Police Department will offer $3 per person hamburger or hot dog meal deals.&nbsp\; Proceeds will benefit the Windsor Optimist Club.&nbsp\; The event is also sponsored by Spokes Bicycles and the Johnny Jacoby Community Foundation.
LOCATION:Boardwalk Park
UID:e.2900.481
SEQUENCE:3
DTSTAMP:20260424T080107Z
URL:https://business.windsorchamber.net/events/details/community-bike-night-june-5-481
END:VEVENT

END:VCALENDAR
