BEGIN:VCALENDAR
VERSION:2.0
PRODID:-//ChamberMaster//Event Calendar 2.0//EN
METHOD:PUBLISH
X-PUBLISHED-TTL:P3D
REFRESH-INTERVAL:P3D
CALSCALE:GREGORIAN
BEGIN:VEVENT
DTSTART:20190307T010000Z
DTEND:20190307T023000Z
X-MICROSOFT-CDO-ALLDAYEVENT:FALSE
SUMMARY:Community Conversation with Barry Wilson
DESCRIPTION:Windsor residents are invited to join Town Board Member Barry Wilson\, District 2\, for a Community Conversation where he will discuss ideas\, answer questions\, and field comments.
X-ALT-DESC;FMTTYPE=text/html:Windsor residents are invited to join Town Board Member Barry Wilson\, District 2\, for a Community Conversation where he will discuss ideas\, answer questions\, and field comments.
LOCATION:Clearview Library - 720 Third Street
UID:e.2900.1586
SEQUENCE:3
DTSTAMP:20260423T191302Z
URL:https://business.windsorchamber.net/events/details/community-conversation-with-barry-wilson-1586
END:VEVENT

END:VCALENDAR
