BEGIN:VCALENDAR
VERSION:2.0
PRODID:-//ChamberMaster//Event Calendar 2.0//EN
METHOD:PUBLISH
X-PUBLISHED-TTL:P3D
REFRESH-INTERVAL:P3D
CALSCALE:GREGORIAN
BEGIN:VEVENT
DTSTART:20170630T003000Z
DTEND:20170630T023000Z
X-MICROSOFT-CDO-ALLDAYEVENT:FALSE
SUMMARY:Concert in the Park
DESCRIPTION:Steve Manshel Band/a  Variety Dance Band will be the entertainment for the Concert in the Park that evening.
X-ALT-DESC;FMTTYPE=text/html:Steve Manshel Band/a&nbsp\; Variety Dance Band will be the entertainment for the Concert in the Park that evening.
LOCATION:Boardwalk Park - 100 N. 5th Street
UID:e.2900.56
SEQUENCE:3
DTSTAMP:20260425T004720Z
URL:https://business.windsorchamber.net/events/details/concert-in-the-park-56
END:VEVENT

END:VCALENDAR
