BEGIN:VCALENDAR
VERSION:2.0
PRODID:-//ChamberMaster//Event Calendar 2.0//EN
METHOD:PUBLISH
X-PUBLISHED-TTL:P3D
REFRESH-INTERVAL:P3D
CALSCALE:GREGORIAN
BEGIN:VEVENT
DTSTART:20180801T000000Z
DTEND:20180801T020000Z
X-MICROSOFT-CDO-ALLDAYEVENT:FALSE
SUMMARY:Cooking Class with the Windsor Chamber - Rustic Italian
DESCRIPTION:Windsor Chamber Cooking Class -\n\n			Rustic Italian @ The Bottle Olive\n\n			 \n\n			Join us for our 1st Windsor Chamber Cooking Class @ The Bottled Olive. Chef Michelle will be teaching us some recipes with a Rustic Italian Theme.  Class is demonstration style. The class teaches tasty techniques and food preparation along with providing a generous tasting of each dish prepared so come hungry! You will leave the night with recipes so you can re-create everything again.\n\n			\n\n			To register please call The Bottled Olive @ 970-833-5176\n\n			Cost: $30\n\n			Space is very limited. Call today!
X-ALT-DESC;FMTTYPE=text/html:<table border="0" cellpadding="0" cellspacing="0" style="width:100.0%\;border-collapse:collapse\;" width="100%">\n	<tbody>\n		<tr>\n			<td style="padding:7.5pt 15.0pt 7.5pt 7.5pt\;vertical-align:top\;"><strong><span style="color:#368A9C\;"><span style="font-family:arial\,sans-serif\;">Windsor Chamber Cooking Class -</span></span></strong><br />\n			<strong><span style="color:#368A9C\;"><span style="font-family:arial\,sans-serif\;">Rustic Italian @ The Bottle Olive</span></span></strong><br />\n			&nbsp\;<br />\n			<span style="font-size:14px\;"><span style="color:#505362\;"><span style="font-family:arial\,sans-serif\;">Join us for our 1st Windsor Chamber Cooking Class @ The Bottled Olive. Chef Michelle will be teaching us some recipes with a Rustic Italian Theme. </span></span>&nbsp\;<span style="color:#505362\;"><span style="font-family:arial\,sans-serif\;">Class is demonstration style. The class teaches tasty techniques and food preparation along with providing a generous tasting of each dish prepared&hellip\;so come hungry! You will leave the night with recipes so you can re-create everything again.</span></span></span><br />\n			<br />\n			<strong><span style="color:#505362\;"><span style="font-family:arial\,sans-serif\;"><span style="font-size:10.5pt\;">To register please call The Bottled Olive @ 970-833-5176</span></span></span></strong><br />\n			<strong><span style="color:#505362\;"><span style="font-family:arial\,sans-serif\;"><span style="font-size:10.5pt\;">Cost: $30</span></span></span></strong><br />\n			<strong><span style="color:#505362\;"><span style="font-family:arial\,sans-serif\;"><span style="font-size:10.5pt\;">Space is very limited. Call today!</span></span></span></strong><br />\n			&nbsp\;</td>\n		</tr>\n	</tbody>\n</table>\n
LOCATION:The Bottled Olive - 1550 Main Street\, Unit 130
UID:e.2900.484
SEQUENCE:3
DTSTAMP:20260424T052144Z
URL:https://business.windsorchamber.net/events/details/cooking-class-with-the-windsor-chamber-rustic-italian-484
END:VEVENT

END:VCALENDAR
