BEGIN:VCALENDAR
VERSION:2.0
PRODID:-//ChamberMaster//Event Calendar 2.0//EN
METHOD:PUBLISH
X-PUBLISHED-TTL:P3D
REFRESH-INTERVAL:P3D
CALSCALE:GREGORIAN
BEGIN:VEVENT
DTSTART:20180717T153000Z
DTEND:20180717T173000Z
X-MICROSOFT-CDO-ALLDAYEVENT:FALSE
SUMMARY:Corporate Social Responsibility Summit
DESCRIPTION:Join United Way of Larimer County for an exciting morning of learning and discussing Corporate Social Responsibility - what it means\, how to define objectives relative to your company's values\, how to grow your efforts and how all this supports your business' bottom line. Hear from local speakers and have time to network and share ideas.
X-ALT-DESC;FMTTYPE=text/html:Join United Way of Larimer County for an exciting morning of learning and discussing Corporate Social Responsibility - what it means\, how to define objectives relative to your company&#39\;s values\, how to grow your efforts and how all this supports your business&#39\; bottom line. Hear from local speakers and have time to network and share ideas.
LOCATION:Scheels | 4755 RONALD REAGAN BOULEVARD | JOHNSTOWN
UID:e.2900.490
SEQUENCE:3
DTSTAMP:20260424T052015Z
URL:https://business.windsorchamber.net/events/details/corporate-social-responsibility-summit-490
END:VEVENT

END:VCALENDAR
