BEGIN:VCALENDAR
VERSION:2.0
PRODID:-//ChamberMaster//Event Calendar 2.0//EN
METHOD:PUBLISH
X-PUBLISHED-TTL:P3D
REFRESH-INTERVAL:P3D
CALSCALE:GREGORIAN
BEGIN:VEVENT
DTSTART:20190118T010000Z
DTEND:20190118T030000Z
X-MICROSOFT-CDO-ALLDAYEVENT:FALSE
SUMMARY:Crafty Cabaret: Celebrate Chinese New Year
DESCRIPTION:Our first Crafty Cabret of 2019 will highlight student musicians from the Confucius Institute at CSU.  They will perform on traditional Chinese instruments\, talk about Chinese New Year celebrations\, and help create paper ornaments to take home!  Free beer will be provided by High Hops Brewery.
X-ALT-DESC;FMTTYPE=text/html:Our first Crafty Cabret of 2019 will highlight student musicians from the Confucius Institute at CSU.&nbsp\; They will perform on traditional Chinese instruments\, talk about Chinese New Year celebrations\, and help create paper ornaments to take home!&nbsp\; Free beer will be provided by High Hops Brewery.
LOCATION:Art & Heritage Cener - 116 5th Street - Windsor\, CO
UID:e.2900.1566
SEQUENCE:3
DTSTAMP:20260423T215934Z
URL:https://business.windsorchamber.net/events/details/crafty-cabaret-celebrate-chinese-new-year-1566
END:VEVENT

END:VCALENDAR
