BEGIN:VCALENDAR
VERSION:2.0
PRODID:-//ChamberMaster//Event Calendar 2.0//EN
METHOD:PUBLISH
X-PUBLISHED-TTL:P3D
REFRESH-INTERVAL:P3D
CALSCALE:GREGORIAN
BEGIN:VEVENT
DTSTART:20190201T160000Z
DTEND:20190201T163000Z
X-MICROSOFT-CDO-ALLDAYEVENT:FALSE
SUMMARY:CROOKED CUP/ RIBBON CUTTING
DESCRIPTION:Come and join the Windsor Chamber in welcoming the Crooked Cup into our Windsor Chamber.  Great time to see what they serve and you can tell them what kind of services your business provide.  Bring your business cards to pass around.
X-ALT-DESC;FMTTYPE=text/html:Come and join the Windsor Chamber in welcoming the Crooked Cup into our Windsor Chamber.&nbsp\; Great time to see what they serve and you can tell them what kind of services your business provide.&nbsp\; Bring your business cards to pass around.
LOCATION:Crooked Cup - 1399 Water Valley Parkway - Windsor
UID:e.2900.1568
SEQUENCE:3
DTSTAMP:20260423T203710Z
URL:https://business.windsorchamber.net/events/details/crooked-cup-ribbon-cutting-1568
END:VEVENT

END:VCALENDAR
