BEGIN:VCALENDAR
VERSION:2.0
PRODID:-//ChamberMaster//Event Calendar 2.0//EN
METHOD:PUBLISH
X-PUBLISHED-TTL:P3D
REFRESH-INTERVAL:P3D
CALSCALE:GREGORIAN
BEGIN:VEVENT
DTSTART:20200930T220000Z
DTEND:20200930T233000Z
X-MICROSOFT-CDO-ALLDAYEVENT:FALSE
SUMMARY:CrossCountry Mortgage - Grand Opening & Ribbon Cutting
DESCRIPTION:Let's Celebrate NEW Business!\n\n \n\nCrossCountry Mortgage Open House is your chance to explore all the programs CrossCountry has to offer. They are excited to share their business with our membership!\n\n \n\nDate: Wednesday September 30th\n\nTime: 4 to 5:30 PM Ribbon Cutting - 4:30 PM\n\nLocation: 8010 S Co Rd 5\, Suite 203\, Windsor Co.\n\n \n\nThe event will include appetizers\, light snacks\, and beverages compliments of CrossCountry Mortgage.\n\n\n\nAlthough the Open House is a free event\, you are required to register so the Chamber has an accurate count of guests for food and drinks.
X-ALT-DESC;FMTTYPE=text/html:<div style="background-color: rgb(255\, 255\, 255)\; color: rgb(46\, 47\, 47)\; font-family: Verdana\, Geneva\, sans-serif\; font-size: 16px\; white-space: pre-wrap\; text-align: center\;"><span style="font-size: 24px\; color: rgb(29\, 53\, 103)\; font-family: &quot\;Trebuchet MS&quot\;\, Verdana\, Helvetica\, sans-serif\; font-weight: bold\;">Let&#39\;s Celebrate NEW Business!</span></div>\n\n<div style="background-color: rgb(255\, 255\, 255)\; color: rgb(46\, 47\, 47)\; font-family: Verdana\, Geneva\, sans-serif\; font-size: 16px\; white-space: pre-wrap\;">&nbsp\;</div>\n\n<div style="background-color: rgb(255\, 255\, 255)\; color: rgb(46\, 47\, 47)\; font-family: Verdana\, Geneva\, sans-serif\; font-size: 16px\; white-space: pre-wrap\;"><span style="font-size: 18px\; font-family: &quot\;Trebuchet MS&quot\;\, Verdana\, Helvetica\, sans-serif\;">CrossCountry Mortgage Open House is your chance to explore all the programs CrossCountry has to offer. They are excited to share their business with our membership!</span></div>\n\n<div style="background-color: rgb(255\, 255\, 255)\; color: rgb(46\, 47\, 47)\; font-family: Verdana\, Geneva\, sans-serif\; font-size: 16px\; white-space: pre-wrap\;">&nbsp\;</div>\n\n<div style="background-color: rgb(255\, 255\, 255)\; color: rgb(46\, 47\, 47)\; font-family: Verdana\, Geneva\, sans-serif\; font-size: 16px\; white-space: pre-wrap\;"><span style="font-size: 18px\; font-weight: bold\; font-family: &quot\;Trebuchet MS&quot\;\, Verdana\, Helvetica\, sans-serif\;">Date: Wednesday September 30th</span></div>\n\n<div style="background-color: rgb(255\, 255\, 255)\; color: rgb(46\, 47\, 47)\; font-family: Verdana\, Geneva\, sans-serif\; font-size: 16px\; white-space: pre-wrap\;"><span style="font-size: 18px\; font-weight: bold\; font-family: &quot\;Trebuchet MS&quot\;\, Verdana\, Helvetica\, sans-serif\;">Time: 4 to 5:30 PM Ribbon Cutting - 4:30 PM</span></div>\n\n<div style="background-color: rgb(255\, 255\, 255)\; color: rgb(46\, 47\, 47)\; font-family: Verdana\, Geneva\, sans-serif\; font-size: 16px\; white-space: pre-wrap\;"><span style="font-size: 18px\; font-weight: bold\; font-family: &quot\;Trebuchet MS&quot\;\, Verdana\, Helvetica\, sans-serif\;">Location: 8010 S Co Rd 5\, Suite 203\, Windsor Co.</span></div>\n\n<div style="color: rgb(51\, 51\, 51)\; font-family: sans-serif\, Arial\, Verdana\, &quot\;Trebuchet MS&quot\;\; padding: 0px\; margin: 0px\; line-height: 1.2\; font-size: 18px\;"><span style="font-family: &quot\;Trebuchet MS&quot\;\, Verdana\, Helvetica\, sans-serif\;">&#8203\;<br />\nThe event will include appetizers\, light snacks\, and beverages compliments of CrossCountry Mortgage.</span><br />\n<br />\n<span style="font-family: &quot\;Trebuchet MS&quot\;\, Verdana\, Helvetica\, sans-serif\;">Although the Open House is a free event\, you are required to register so the Chamber has an accurate count of guests for food and drinks.&nbsp\;</span></div>\n
LOCATION:
UID:e.2900.4295
SEQUENCE:3
DTSTAMP:20260422T175542Z
URL:https://business.windsorchamber.net/events/details/crosscountry-mortgage-grand-opening-ribbon-cutting-4295
END:VEVENT

END:VCALENDAR
