BEGIN:VCALENDAR
VERSION:2.0
PRODID:-//ChamberMaster//Event Calendar 2.0//EN
METHOD:PUBLISH
X-PUBLISHED-TTL:P3D
REFRESH-INTERVAL:P3D
CALSCALE:GREGORIAN
BEGIN:VEVENT
DTSTART:20181017T133000Z
DTEND:20181017T150000Z
X-MICROSOFT-CDO-ALLDAYEVENT:FALSE
SUMMARY:CYBER SECURITY presented by Community Banks of Colorado
DESCRIPTION:Community Banks of Colorado presentation on Cyber Security. Hear expert advice from John Finn and Rob Rudloff on how to protect your business.
X-ALT-DESC;FMTTYPE=text/html:Community Banks of Colorado presentation on Cyber Security. Hear expert advice from John Finn and Rob Rudloff on how to protect your business.<br />\n&nbsp\;
LOCATION:Embassy Suites of Loveland - 4705 Clydesale Parkway - Loveland\, Co
UID:e.2900.1525
SEQUENCE:3
DTSTAMP:20260424T013847Z
URL:https://business.windsorchamber.net/events/details/cyber-security-presented-by-community-banks-of-colorado-1525
END:VEVENT

END:VCALENDAR
