BEGIN:VCALENDAR
VERSION:2.0
PRODID:-//ChamberMaster//Event Calendar 2.0//EN
METHOD:PUBLISH
X-PUBLISHED-TTL:P3D
REFRESH-INTERVAL:P3D
CALSCALE:GREGORIAN
BEGIN:VEVENT
DTSTART:20180911T160000Z
DTEND:20180911T163000Z
X-MICROSOFT-CDO-ALLDAYEVENT:FALSE
SUMMARY:DENT CLINIC
DESCRIPTION:Please attend the Ribbon Cutting for Dent Clinic the newest Member of our Windsor Chamber of Commerce. You can introduce yourself and well as\n\nseeing what they do.
X-ALT-DESC;FMTTYPE=text/html:Please attend the Ribbon Cutting for Dent Clinic the newest Member of our Windsor Chamber of Commerce.&nbsp\;You can introduce yourself and well&nbsp\;as<br />\nseeing what they do.
LOCATION:Dent Clinic\, 214 N. 6th Street\, Windsor - North of Coren Printing
UID:e.2900.1513
SEQUENCE:3
DTSTAMP:20260424T024201Z
URL:https://business.windsorchamber.net/events/details/dent-clinic-1513
END:VEVENT

END:VCALENDAR
