BEGIN:VCALENDAR
VERSION:2.0
PRODID:-//ChamberMaster//Event Calendar 2.0//EN
METHOD:PUBLISH
X-PUBLISHED-TTL:P3D
REFRESH-INTERVAL:P3D
CALSCALE:GREGORIAN
BEGIN:VEVENT
DTSTART:20190129T170000Z
DTEND:20190129T173000Z
X-MICROSOFT-CDO-ALLDAYEVENT:FALSE
SUMMARY:DIGGLES CREATIVE - RIBBON CUTTING
DESCRIPTION:Please attend the Diggles Creative\, ribbon cutting.  Great time for you to tell them about your business and you find out what they do!!!
X-ALT-DESC;FMTTYPE=text/html:Please attend the Diggles Creative\, ribbon cutting.&nbsp\; Great time for you to tell them about your business and you find out what they do!!!<br />\n&nbsp\;
LOCATION:Diggles Creative\, - 1296 Main Street - Unit B
UID:e.2900.1552
SEQUENCE:3
DTSTAMP:20260423T215606Z
URL:https://business.windsorchamber.net/events/details/diggles-creative-ribbon-cutting-1552
END:VEVENT

END:VCALENDAR
