BEGIN:VCALENDAR
VERSION:2.0
PRODID:-//ChamberMaster//Event Calendar 2.0//EN
METHOD:PUBLISH
X-PUBLISHED-TTL:P3D
REFRESH-INTERVAL:P3D
CALSCALE:GREGORIAN
BEGIN:VEVENT
DTSTART:20190319T150000Z
DTEND:20190319T170000Z
X-MICROSOFT-CDO-ALLDAYEVENT:FALSE
SUMMARY:Educational Seminar "Active Shooter /Business Protection
DESCRIPTION:Officer Rick Cook will be teaching the Seminar on "Active Shooter/Business Protection".
X-ALT-DESC;FMTTYPE=text/html:Officer Rick Cook will be teaching the Seminar on &quot\;Active Shooter/Business Protection&quot\;.
LOCATION:Clearview Library - 720 Third St.
UID:e.2900.1579
SEQUENCE:3
DTSTAMP:20260423T204421Z
URL:https://business.windsorchamber.net/events/details/educational-seminar-active-shooter-business-protection-1579
END:VEVENT

END:VCALENDAR
