BEGIN:VCALENDAR
VERSION:2.0
PRODID:-//ChamberMaster//Event Calendar 2.0//EN
METHOD:PUBLISH
X-PUBLISHED-TTL:P3D
REFRESH-INTERVAL:P3D
CALSCALE:GREGORIAN
BEGIN:VEVENT
DTSTART:20190206T190000Z
DTEND:20190206T200000Z
X-MICROSOFT-CDO-ALLDAYEVENT:FALSE
SUMMARY:EKTE HOLISTIC MED SPA to host Windsor Chamber's "Networking at Noon"
DESCRIPTION:Join us at this month's " Networking at Noon" Event:\n\nBy attending networking events you will :\n\nIncrease Your Visibility - Expand Your Professional Connections - Find Referrals - Create Strategic Partnerships - and Socialize.\n\nGreat time for you to meet other Businesses and Great time to buy Valentine present that will PAMPER  your partner!
X-ALT-DESC;FMTTYPE=text/html:Join us at this month&#39\;s&nbsp\;&quot\; Networking at Noon&quot\;&nbsp\;Event:<br />\nBy attending networking events you will :<br />\nIncrease Your Visibility - Expand Your Professional Connections - Find Referrals - Create Strategic Partnerships - and Socialize.<br />\nGreat time for you to meet other Businesses and Great time to buy Valentine present that will&nbsp\;PAMPER &nbsp\;your partner!<br />\n&nbsp\;
LOCATION:EKTE HOLISTIC MED SPA - 1190 W. ASH STREET - WINDSOR\, CO
UID:e.2900.1567
SEQUENCE:3
DTSTAMP:20260423T204629Z
URL:https://business.windsorchamber.net/events/details/ekte-holistic-med-spa-to-host-windsor-chamber-s-networking-at-noon-1567
END:VEVENT

END:VCALENDAR
