BEGIN:VCALENDAR
VERSION:2.0
PRODID:-//ChamberMaster//Event Calendar 2.0//EN
METHOD:PUBLISH
X-PUBLISHED-TTL:P3D
REFRESH-INTERVAL:P3D
CALSCALE:GREGORIAN
BEGIN:VEVENT
DTSTART:20180929T134500Z
DTEND:20180929T170000Z
X-MICROSOFT-CDO-ALLDAYEVENT:FALSE
SUMMARY:FOOTSTEPS TO HOPE 5K RUN/WALK
DESCRIPTION:Join us in a rrun/walk to support our women fighting cancer!  We need YOU to be the HOPE for women in our community.
X-ALT-DESC;FMTTYPE=text/html:Join us in a rrun/walk to support our women fighting cancer!&nbsp\; We need YOU to be the HOPE for women in our community.
LOCATION:Boardwalk Park\, Windsor\, CO
UID:e.2900.1499
SEQUENCE:3
DTSTAMP:20260424T024314Z
URL:https://business.windsorchamber.net/events/details/footsteps-to-hope-5k-run-walk-1499
END:VEVENT

END:VCALENDAR
