BEGIN:VCALENDAR
VERSION:2.0
PRODID:-//ChamberMaster//Event Calendar 2.0//EN
METHOD:PUBLISH
X-PUBLISHED-TTL:P3D
REFRESH-INTERVAL:P3D
CALSCALE:GREGORIAN
BEGIN:VEVENT
DTSTART:20200912T230000Z
DTEND:20200913T020000Z
X-MICROSOFT-CDO-ALLDAYEVENT:FALSE
SUMMARY:Forbes-McKay American Legion Grand Re-Opening & Ribbon Cutting
DESCRIPTION:FORBES-MCKAY AMERICAN LEGION POST 109\n\nCordially invites you to the Grand Re-Opening & Centennial Celebration\n\n\n\nSATURDAY\, SEPTEMBER 12th\, 2020\n\n\n\nOpen to the public\n\n5:00 pm Drinks (No Host)\n\n5:15 pm Ribbon Cutting Ceremony\n\n5:30 pm Dinner\n\n7:00 pm Program Begins\n\nCentennial History\n\nRecognition of Contributors
X-ALT-DESC;FMTTYPE=text/html:<strong>FORBES-MCKAY AMERICAN LEGION&nbsp\;POST 109</strong><br />\nCordially invites you to the&nbsp\;Grand Re-Opening &amp\; Centennial Celebration<br />\n<br />\nSATURDAY\, SEPTEMBER 12th\, 2020<br />\n<br />\n<strong>Open to the public</strong><br />\n5:00 pm Drinks (No Host)<br />\n5:15 pm Ribbon Cutting Ceremony<br />\n5:30 pm Dinner<br />\n7:00 pm Program Begins<br />\nCentennial History<br />\nRecognition of Contributors<br />\n&nbsp\;
LOCATION:
UID:e.2900.4290
SEQUENCE:3
DTSTAMP:20260422T163030Z
URL:https://business.windsorchamber.net/events/details/forbes-mckay-american-legion-grand-re-opening-ribbon-cutting-4290
END:VEVENT

END:VCALENDAR
