BEGIN:VCALENDAR
VERSION:2.0
PRODID:-//ChamberMaster//Event Calendar 2.0//EN
METHOD:PUBLISH
X-PUBLISHED-TTL:P3D
REFRESH-INTERVAL:P3D
CALSCALE:GREGORIAN
BEGIN:VEVENT
DTSTART:20180626T173000Z
DTEND:20180626T193000Z
X-MICROSOFT-CDO-ALLDAYEVENT:FALSE
SUMMARY:FREE Workshop - Tax Reform Bill - What Does it Mean?
DESCRIPTION:This was the first major tax overhaul in nearly 30 years. What does this all mean for my business?\n\n \n\nThe recent tax reform means small businesses everywhere are getting a break on their taxes. The legislation\, which is one of the most significant tax overhauls passed in decades\, provides pass-through businesses and corporate entities with lower rates. As a small business owner it's important to stay up to date on current tax laws so you can ensure you're paying the right amount each year. Learn about the new laws and how to apply them to your business.\n\n  \n\nSpeaker: Kelly Truesdell \n\n"Kelly Truesdell is the founder of Kellery Tax\, Inc. She has a bachelor's degree from National University in Business Administration\, a master's degree from Golden Gate University in Taxation and is an Enrolled Agent.\n\nIn the course of her 20+ year career as a tax professional\, Kelly has worked in the internal tax departments for several multinational corporations including Fluor\, Allergan and Experian. Her extensive experience in business is what enables her to effectively assist small business owners with their tax planning\, compliance and resolution."
X-ALT-DESC;FMTTYPE=text/html:<div style="color: rgb(80\, 83\, 98)\; font-family: Arial\, Verdana\, Helvetica\, sans-serif\; font-size: 16px\; text-align: center\; white-space: pre-wrap\; background-color: rgb(255\, 255\, 255)\;"><span style="font-size:16px\;"><span style="color: rgb(54\, 138\, 156)\; font-weight: bold\;">This was the first major tax overhaul in nearly 30 years.&nbsp\;What does this all mean for my business?</span></span></div>\n\n<div style="color: rgb(80\, 83\, 98)\; font-family: Arial\, Verdana\, Helvetica\, sans-serif\; font-size: 16px\; white-space: pre-wrap\; background-color: rgb(255\, 255\, 255)\;"><span style="color: rgb(31\, 73\, 125)\; font-size: 12px\;">&nbsp\;</span></div>\n\n<div style="color: rgb(80\, 83\, 98)\; font-family: Arial\, Verdana\, Helvetica\, sans-serif\; font-size: 16px\; white-space: pre-wrap\; background-color: rgb(255\, 255\, 255)\;"><span style="font-size:14px\;"><span style="color: rgb(51\, 51\, 51)\;">The recent tax reform means small businesses everywhere are getting a break on their taxes. The legislation\, which is one of the most significant tax overhauls passed in decades\, provides pass-through businesses and corporate entities with lower rates.&nbsp\;As a small business owner it&#39\;s important to stay up to date on current tax laws so you can ensure you&#39\;re paying the right amount each year.&nbsp\;Learn about the new laws and how to apply them to your business.<br />\n&nbsp\;&nbsp\;</span></span>\n\n<div style="color: rgb(80\, 83\, 98)\; font-family: Arial\, Verdana\, Helvetica\, sans-serif\; font-size: 14px\; white-space: pre-wrap\; background-color: rgb(255\, 255\, 255)\; text-align: center\;"><span style="font-size:14px\;"><span style="font-weight: bold\; color: rgb(54\, 138\, 156)\;">Speaker:&nbsp\;Kelly Truesdell </span></span></div>\n\n<div style="color: rgb(80\, 83\, 98)\; font-family: Arial\, Verdana\, Helvetica\, sans-serif\; font-size: 14px\; white-space: pre-wrap\; background-color: rgb(255\, 255\, 255)\; text-align: center\;"><span style="font-size:14px\;">&ldquo\;Kelly Truesdell is the founder of Kellery Tax\, Inc. She has a bachelor&rsquo\;s degree from National University in Business Administration\, a master&rsquo\;s degree from Golden Gate University in Taxation and is an Enrolled Agent.</span></div>\n\n<div style="color: rgb(80\, 83\, 98)\; font-family: Arial\, Verdana\, Helvetica\, sans-serif\; font-size: 14px\; white-space: pre-wrap\; background-color: rgb(255\, 255\, 255)\; text-align: center\;"><span style="font-size:14px\;">In the course of her 20+ year career as a tax professional\, Kelly has worked in the internal tax departments for several multinational corporations including Fluor\, Allergan and Experian.&nbsp\;Her extensive experience in business is what enables her to effectively assist small business owners with their tax planning\, compliance and resolution.&rdquo\;</span></div>\n\n<div>&nbsp\;</div>\n</div>\n
LOCATION:Windsor Library 720 3rd Street\, Windsor
UID:e.2900.483
SEQUENCE:3
DTSTAMP:20260424T064226Z
URL:https://business.windsorchamber.net/events/details/free-workshop-tax-reform-bill-what-does-it-mean-483
END:VEVENT

END:VCALENDAR
