BEGIN:VCALENDAR
VERSION:2.0
PRODID:-//ChamberMaster//Event Calendar 2.0//EN
METHOD:PUBLISH
X-PUBLISHED-TTL:P3D
REFRESH-INTERVAL:P3D
CALSCALE:GREGORIAN
BEGIN:VEVENT
DTSTART:20190115T170000Z
DTEND:20190115T173000Z
X-MICROSOFT-CDO-ALLDAYEVENT:FALSE
SUMMARY:GEM Pet Care/ Ribbon Cutting
DESCRIPTION:Please attend the ribbon cutting for GEM PET CARE  so you can see what their business is all about and what services they provide. As well as you finding out about their business you can tell them what you do\, in case they need your services.
X-ALT-DESC;FMTTYPE=text/html:Please attend the ribbon cutting for GEM PET CARE&nbsp\; so you can see&nbsp\;what their business is all about and what services they provide. As well as you finding out about&nbsp\;their business&nbsp\;you can tell them what you do\, in case they need your services.
LOCATION:Windsor Chamber Office - 421 Main St
UID:e.2900.1553
SEQUENCE:3
DTSTAMP:20260423T215838Z
URL:https://business.windsorchamber.net/events/details/gem-pet-care-ribbon-cutting-1553
END:VEVENT

END:VCALENDAR
