BEGIN:VCALENDAR
VERSION:2.0
PRODID:-//ChamberMaster//Event Calendar 2.0//EN
METHOD:PUBLISH
X-PUBLISHED-TTL:P3D
REFRESH-INTERVAL:P3D
CALSCALE:GREGORIAN
BEGIN:VEVENT
DTSTART:20180726T140000Z
DTEND:20180726T200000Z
X-MICROSOFT-CDO-ALLDAYEVENT:FALSE
SUMMARY:Golf Tournament - Windsor Chamber of Commerce
DESCRIPTION:The Windsor Chamber of Commerce would like to invite all business leaders and community members who are interested in meeting potential new clients/customers\, while enjoying the Colorado sunshine and having some fun at the chamber's annual golf tournament on Thursday July 26th.   The tournament will start at 9am with a shotgun start. \n\nCost to participate in the tournament is $125 for individuals (You will be partnered with 3 other players) and $500 for a Foursome.  Registration is available by calling 970-686-7189 or clicking the registration button above.\n\nRegistration includes:  Green Fees\, Cart\, Beverages and Lunch\n\nSponsorship and advertising opportunities are also available\, ranging from $2\,000 for a Gold Sponsorship to $150 for a Hole Sponsorship.  For more information about sponsorship opportunities\, please contact Connie Rutz at 970-686-7189 or by email at connie@windsorchamber.net
X-ALT-DESC;FMTTYPE=text/html:<span style="color: rgb(71\, 54\, 17)\;"><span style="font-family: helvetica\,sans-serif\;">The Windsor Chamber of Commerce would like to invite all business leaders and community members who are interested in meeting potential new clients/customers\, while enjoying the Colorado sunshine and having some fun at the chamber&rsquo\;s annual golf tournament on Thursday July 26<sup>th</sup>.&nbsp\; &nbsp\;The tournament will start at 9am with a shotgun start. </span></span><br />\n<span style="color: rgb(71\, 54\, 17)\;"><span style="font-family: helvetica\,sans-serif\;">Cost to participate in the tournament is $125 for individuals (You will be partnered with 3 other players) and $500 for a Foursome.&nbsp\; Registration is available by calling 970-686-7189 or clicking the registration button above.</span></span><br />\n<span style="color: rgb(71\, 54\, 17)\;"><span style="font-family: helvetica\,sans-serif\;">Registration includes:&nbsp\; Green Fees\, Cart\, Beverages and Lunch</span></span><br />\n<span style="color: rgb(71\, 54\, 17)\;"><span style="font-family: helvetica\,sans-serif\;">Sponsorship and advertising opportunities are also available\, ranging from $2\,000 for a Gold Sponsorship to $150 for a Hole Sponsorship.&nbsp\; For more information about sponsorship opportunities\, please contact Connie Rutz at 970-686-7189 or by email at connie@windsorchamber.net</span></span>
LOCATION:Pelican Lakes Gold Course 1100 Water Valley Parkway Windsor\, CO
UID:e.2900.478
SEQUENCE:3
DTSTAMP:20260424T064337Z
URL:https://business.windsorchamber.net/events/details/golf-tournament-windsor-chamber-of-commerce-478
END:VEVENT

END:VCALENDAR
