BEGIN:VCALENDAR
VERSION:2.0
PRODID:-//ChamberMaster//Event Calendar 2.0//EN
METHOD:PUBLISH
X-PUBLISHED-TTL:P3D
REFRESH-INTERVAL:P3D
CALSCALE:GREGORIAN
BEGIN:VEVENT
DTSTART:20181026T170000Z
DTEND:20181026T180000Z
X-MICROSOFT-CDO-ALLDAYEVENT:FALSE
SUMMARY:Good Samaritan Memory Care and Assisted Living Groundbreaking
DESCRIPTION:Good Samaritan Society-Water Valley Senior Resort is holding a Ground Breaking Ceremony for their new Memory Care and Assisted Living Building. This will be a great time to see Good Sams plans for their newest addition.\n\nAlso on Good Sams agenda they will be serving their fantastic chili and cinnamon rolls.
X-ALT-DESC;FMTTYPE=text/html:Good Samaritan Society-Water Valley Senior Resort is holding a Ground Breaking Ceremony for their new Memory Care and Assisted Living Building. This will be a great time to see Good Sams plans for their newest addition.<br />\nAlso on Good Sams agenda they will be serving their fantastic chili and cinnamon rolls.
LOCATION:Good Samaritan - 805 Compassion Drive
UID:e.2900.1524
SEQUENCE:3
DTSTAMP:20260424T013721Z
URL:https://business.windsorchamber.net/events/details/good-samaritan-memory-care-and-assisted-living-groundbreaking-1524
END:VEVENT

END:VCALENDAR
