BEGIN:VCALENDAR
VERSION:2.0
PRODID:-//ChamberMaster//Event Calendar 2.0//EN
METHOD:PUBLISH
X-PUBLISHED-TTL:P3D
REFRESH-INTERVAL:P3D
CALSCALE:GREGORIAN
BEGIN:VEVENT
DTSTART:20180925T160000Z
DTEND:20180925T163000Z
X-MICROSOFT-CDO-ALLDAYEVENT:FALSE
SUMMARY:GooRooz Ribbon Cutting
DESCRIPTION:Ribbon Cutting for one of our newest members GooRooz.Please attend and see what thery are all about and you can network with them and tell them your business.
X-ALT-DESC;FMTTYPE=text/html:Ribbon Cutting for one of our newest members GooRooz.Please attend and see what thery are all about and you can network with them and tell them your business.
LOCATION:1050 Walnut - Behind Senor Jalapeno's and West of Althoff Chiropractic
UID:e.2900.1516
SEQUENCE:3
DTSTAMP:20260424T025046Z
URL:https://business.windsorchamber.net/events/details/goorooz-ribbon-cutting-1516
END:VEVENT

END:VCALENDAR
