BEGIN:VCALENDAR
VERSION:2.0
PRODID:-//ChamberMaster//Event Calendar 2.0//EN
METHOD:PUBLISH
X-PUBLISHED-TTL:P3D
REFRESH-INTERVAL:P3D
CALSCALE:GREGORIAN
BEGIN:VEVENT
DTSTART:20210602T220000Z
DTEND:20210602T230000Z
X-MICROSOFT-CDO-ALLDAYEVENT:FALSE
SUMMARY:Grand Opening ~ Barter West
DESCRIPTION:Let's Celebrate Barter West \n\nGrand Opening/Ribbon Cutting\n\n \n\nThe Windsor Area Chamber of Commerce cordially invites you to the Ribbon Cutting & Grand opening of Barter West.\n\n \n\nDate: June 2nd   \n\nTime: 4:00 PM to 5:00 PM\, Ribbon Cutting   4:30 PM\n\nLocation: American Legion 624 Ash Street\, Windsor Co\n\n \n\nThe event will include light snacks\, and beverages compliments of Barter West. Although the Open House is a free event\, you are required to register so the Chamber has an accurate count of guests for food and drinks.
X-ALT-DESC;FMTTYPE=text/html:<br />\n<strong><span style="color:#1D3567\;"><span style="font-family:trebuchet ms\,sans-serif\;"><span style="font-size:18.0pt\;">Let&#39\;s Celebrate Barter West </span></span></span></strong><br />\n<strong><span style="color:#1D3567\;"><span style="font-family:trebuchet ms\,sans-serif\;"><span style="font-size:18.0pt\;">Grand Opening/Ribbon Cutting</span></span></span></strong><br />\n&nbsp\;<br />\n<span style="color:#2E2F2F\;"><span style="font-family:trebuchet ms\,sans-serif\;"><span style="font-size:13.5pt\;">The Windsor Area Chamber of Commerce cordially invites you to the Ribbon Cutting &amp\; Grand opening of Barter West.</span></span></span><br />\n&nbsp\;<br />\n<strong><span style="color:#2E2F2F\;"><span style="font-family:trebuchet ms\,sans-serif\;"><span style="font-size:13.5pt\;">Date: June 2nd&nbsp\; &nbsp\;</span></span></span></strong><br />\n<strong><span style="color:#2E2F2F\;"><span style="font-family:trebuchet ms\,sans-serif\;"><span style="font-size:13.5pt\;">Time: 4:00 PM to 5:00 PM\, Ribbon Cutting &ndash\; 4:30 PM</span></span></span></strong><br />\n<strong><span style="color:#2E2F2F\;"><span style="font-family:trebuchet ms\,sans-serif\;"><span style="font-size:13.5pt\;">Location: American Legion 624 Ash Street\, Windsor Co</span></span></span></strong><br />\n&nbsp\;<br />\n<span style="color:#2E2F2F\;"><span style="font-family:trebuchet ms\,sans-serif\;"><span style="font-size:13.5pt\;">The event will include light snacks\, and beverages compliments of</span></span></span> <span style="color:#2E2F2F\;"><span style="font-family:trebuchet ms\,sans-serif\;"><span style="font-size:13.5pt\;">Barter West. Although the Open House is a free event\, you are required to register so the Chamber has an accurate count of guests for food and drinks.&nbsp\;</span></span></span><br />\n&nbsp\;<br />\n&nbsp\;
LOCATION:
UID:e.2900.4873
SEQUENCE:3
DTSTAMP:20260422T034319Z
URL:https://business.windsorchamber.net/events/details/grand-opening-barter-west-4873
END:VEVENT

END:VCALENDAR
