BEGIN:VCALENDAR
VERSION:2.0
PRODID:-//ChamberMaster//Event Calendar 2.0//EN
METHOD:PUBLISH
X-PUBLISHED-TTL:P3D
REFRESH-INTERVAL:P3D
CALSCALE:GREGORIAN
BEGIN:VEVENT
DTSTART:20210421T220000Z
DTEND:20210421T230000Z
X-MICROSOFT-CDO-ALLDAYEVENT:FALSE
SUMMARY:Grand Opening Coldwell Banker Plains Windsor
DESCRIPTION:Let's Celebrate Coldwell Banker Plains Windsor Grand Opening/Ribbon Cutting\n\n \n\nThe Windsor Area Chamber of Commerce cordially invites you to the Ribbon Cutting & Grand opening of Coldwell Banker Plains.\n\n \n\nDate: April 21st  \n\nTime: 4:00 PM to 5:00 PM Am PM Ribbon Cutting   4:30 PM\n\nLocation: 905 Main Street\, Windsor Co\n\n \n\nThe event will include light snacks\, and beverages compliments of Coldwell Banker Plains. Although the Open House is a free event\, you are required to register so the Chamber has an accurate count of guests for food and drinks.
X-ALT-DESC;FMTTYPE=text/html:<br />\n<span style="color:#0000CD\;"><strong><span style="font-family:trebuchet ms\,sans-serif\;"><span style="font-size:18.0pt\;">Let&#39\;s Celebrate Coldwell Banker Plains Windsor Grand Opening/Ribbon Cutting</span></span></strong></span><br />\n&nbsp\;<br />\n<span style="color:#2E2F2F\;"><span style="font-family:trebuchet ms\,sans-serif\;"><span style="font-size:13.5pt\;">The Windsor Area Chamber of Commerce cordially invites you to the Ribbon Cutting &amp\; Grand opening of</span></span></span> <span style="color:#2E2F2F\;"><span style="font-family:trebuchet ms\,sans-serif\;"><span style="font-size:13.5pt\;">Coldwell Banker Plains.</span></span></span><br />\n&nbsp\;<br />\n<strong><span style="color:#2E2F2F\;"><span style="font-family:trebuchet ms\,sans-serif\;"><span style="font-size:13.5pt\;">Date: April 21<sup>st</sup> &nbsp\;</span></span></span></strong><br />\n<strong><span style="color:#2E2F2F\;"><span style="font-family:trebuchet ms\,sans-serif\;"><span style="font-size:13.5pt\;">Time: 4:00 PM to 5:00 PM Am PM Ribbon Cutting &ndash\; 4:30 PM</span></span></span></strong><br />\n<strong><span style="color:#2E2F2F\;"><span style="font-family:trebuchet ms\,sans-serif\;"><span style="font-size:13.5pt\;">Location: 905 Main Street\, Windsor Co</span></span></span></strong><br />\n&nbsp\;<br />\n<span style="color:#2E2F2F\;"><span style="font-family:trebuchet ms\,sans-serif\;"><span style="font-size:13.5pt\;">The event will include light snacks\, and beverages compliments of Coldwell Banker Plains. Although the Open House is a free event\, you are required to register so the Chamber has an accurate count of guests for food and drinks.&nbsp\;</span></span></span><br />\n&nbsp\;<br />\n&nbsp\;
LOCATION:
UID:e.2900.4865
SEQUENCE:3
DTSTAMP:20260422T063717Z
URL:https://business.windsorchamber.net/events/details/grand-opening-coldwell-banker-plains-windsor-4865
END:VEVENT

END:VCALENDAR
