BEGIN:VCALENDAR
VERSION:2.0
PRODID:-//ChamberMaster//Event Calendar 2.0//EN
METHOD:PUBLISH
X-PUBLISHED-TTL:P3D
REFRESH-INTERVAL:P3D
CALSCALE:GREGORIAN
BEGIN:VEVENT
DTSTART:20200828T213000Z
DTEND:20200828T223000Z
X-MICROSOFT-CDO-ALLDAYEVENT:FALSE
SUMMARY:Grand Opening Peculier Ales
DESCRIPTION:Date: Friday August 28th\n\nRibbon Cutting: 4:00 PM - SHARP\n\nLocation: 301 Main Street\, Windsor\, CO\n\n \n\n \n\nFounded in the summer of 2020\, Peculier Ales is the first craft brewery in the heart of Downtown Windsor\, Colorado. Housed in the historic Windsor Mill\, you will find an unparalleled experience in their comfortable and family-friendly setting and amazing patio space with fantastic staff dedicated to hospitality and world class beer.
X-ALT-DESC;FMTTYPE=text/html:<div style="color: rgb(46\, 47\, 47)\; font-family: Verdana\, Geneva\, sans-serif\; font-size: 16px\; white-space: pre-wrap\; background-color: rgb(255\, 255\, 255)\;"><span style="font-family: &quot\;Trebuchet MS&quot\;\, Verdana\, Helvetica\, sans-serif\; font-size: 20px\; font-weight: bold\;">Date:</span><span style="font-family: &quot\;Trebuchet MS&quot\;\, Verdana\, Helvetica\, sans-serif\; font-size: 20px\;"> Friday August 28th</span></div>\n\n<div style="color: rgb(46\, 47\, 47)\; font-family: Verdana\, Geneva\, sans-serif\; font-size: 16px\; white-space: pre-wrap\; background-color: rgb(255\, 255\, 255)\;"><span style="font-family: &quot\;Trebuchet MS&quot\;\, Verdana\, Helvetica\, sans-serif\; font-size: 20px\; font-weight: bold\;">Ribbon Cutting:</span><span style="font-family: &quot\;Trebuchet MS&quot\;\, Verdana\, Helvetica\, sans-serif\; font-size: 20px\;"> 4:00 PM - SHARP</span></div>\n\n<div style="color: rgb(46\, 47\, 47)\; font-family: Verdana\, Geneva\, sans-serif\; font-size: 16px\; white-space: pre-wrap\; background-color: rgb(255\, 255\, 255)\;"><span style="font-family: &quot\;Trebuchet MS&quot\;\, Verdana\, Helvetica\, sans-serif\; font-size: 20px\; font-weight: bold\;">Location:</span><span style="font-family: &quot\;Trebuchet MS&quot\;\, Verdana\, Helvetica\, sans-serif\; font-size: 20px\;"> 301 Main Street\, Windsor\, CO</span></div>\n\n<div style="color: rgb(46\, 47\, 47)\; font-family: Verdana\, Geneva\, sans-serif\; font-size: 16px\; white-space: pre-wrap\; background-color: rgb(255\, 255\, 255)\;">&nbsp\;</div>\n\n<div style="color: rgb(46\, 47\, 47)\; font-family: Verdana\, Geneva\, sans-serif\; font-size: 16px\; white-space: pre-wrap\; background-color: rgb(255\, 255\, 255)\;">&nbsp\;</div>\n\n<div style="color: rgb(46\, 47\, 47)\; font-family: Verdana\, Geneva\, sans-serif\; font-size: 16px\; white-space: pre-wrap\; background-color: rgb(255\, 255\, 255)\;"><span style="font-family: &quot\;Trebuchet MS&quot\;\, Verdana\, Helvetica\, sans-serif\; font-size: 20px\;">Founded in the summer of 2020\, Peculier Ales is the first craft brewery in the heart of Downtown Windsor\, Colorado.&nbsp\;Housed in the historic Windsor Mill\, you will find an unparalleled experience in their comfortable and family-friendly setting and amazing patio space with fantastic staff dedicated to hospitality and world class beer.</span></div>\n
LOCATION:
UID:e.2900.4289
SEQUENCE:3
DTSTAMP:20260422T194319Z
URL:https://business.windsorchamber.net/events/details/grand-opening-peculier-ales-4289
END:VEVENT

END:VCALENDAR
