BEGIN:VCALENDAR
VERSION:2.0
PRODID:-//ChamberMaster//Event Calendar 2.0//EN
METHOD:PUBLISH
X-PUBLISHED-TTL:P3D
REFRESH-INTERVAL:P3D
CALSCALE:GREGORIAN
BEGIN:VEVENT
DTSTART:20210217T230000Z
DTEND:20210218T003000Z
X-MICROSOFT-CDO-ALLDAYEVENT:FALSE
SUMMARY:Grand Opening - Soul Rejuvenation Grand Opening & Ribbon Cutting
DESCRIPTION:Let's Celebrate Soul Rejuvenation!\n\n \n\nThe Windsor Area Chamber of Commerce cordially invites you to the Ribbon Cutting & Grand opening of Soul Rejuvenation.\n\n \n\nDate: February 17th\n\nTime: 4 to 5:30 PM Ribbon Cutting - 4:30 PM\n\nLocation: 1180 Main Street\, Windsor CO 80550\n\n \n\n \n\nThe event will include appetizers\, light snacks\, and beverages compliments of Soul Rejuvenation. Although the Open House is a free event\, you are required to register so the Chamber has an accurate count of guests for food and drinks.
X-ALT-DESC;FMTTYPE=text/html:<strong><span style="color:#1D3567\;"><span style="font-family:trebuchet ms\,sans-serif\;"><span style="font-size:18.0pt\;">Let&#39\;s Celebrate Soul Rejuvenation!</span></span></span></strong><br />\n&nbsp\;<br />\n<span style="color:#2E2F2F\;"><span style="font-family:trebuchet ms\,sans-serif\;"><span style="font-size:13.5pt\;">The Windsor Area Chamber of Commerce cordially invites you to the Ribbon Cutting &amp\; Grand opening of <a name="_Hlk55381241">Soul Rejuvenation</a>.</span></span></span><br />\n&nbsp\;<br />\n<strong><span style="color:#2E2F2F\;"><span style="font-family:trebuchet ms\,sans-serif\;"><span style="font-size:13.5pt\;">Date: February 17th</span></span></span></strong><br />\n<strong><span style="color:#2E2F2F\;"><span style="font-family:trebuchet ms\,sans-serif\;"><span style="font-size:13.5pt\;">Time: 4 to 5:30 PM Ribbon Cutting - 4:30 PM</span></span></span></strong><br />\n<strong><span style="color:#2E2F2F\;"><span style="font-family:trebuchet ms\,sans-serif\;"><span style="font-size:13.5pt\;">Location:</span></span></span></strong> <strong><span style="color:#2E2F2F\;"><span style="font-family:trebuchet ms\,sans-serif\;"><span style="font-size:13.5pt\;">1180 Main Street\, Windsor CO 80550</span></span></span></strong><br />\n&nbsp\;<br />\n&nbsp\;<br />\n<span style="color:#2E2F2F\;"><span style="font-family:trebuchet ms\,sans-serif\;"><span style="font-size:13.5pt\;">The event will include appetizers\, light snacks\, and beverages compliments of</span></span></span> <span style="color:#2E2F2F\;"><span style="font-family:trebuchet ms\,sans-serif\;"><span style="font-size:13.5pt\;">Soul Rejuvenation. Although the Open House is a free event\, you are required to register so the Chamber has an accurate count of guests for food and drinks.&nbsp\;</span></span></span>
LOCATION:
UID:e.2900.4685
SEQUENCE:3
DTSTAMP:20260422T092814Z
URL:https://business.windsorchamber.net/events/details/grand-opening-soul-rejuvenation-grand-opening-ribbon-cutting-4685
END:VEVENT

END:VCALENDAR
