BEGIN:VCALENDAR
VERSION:2.0
PRODID:-//ChamberMaster//Event Calendar 2.0//EN
METHOD:PUBLISH
X-PUBLISHED-TTL:P3D
REFRESH-INTERVAL:P3D
CALSCALE:GREGORIAN
BEGIN:VEVENT
DTSTART:20210416T220000Z
DTEND:20210416T230000Z
X-MICROSOFT-CDO-ALLDAYEVENT:FALSE
SUMMARY:Grand Opening - YUZU\, Asian Fusion\, Sushi & Spirits
DESCRIPTION:Let's Celebrate YUZU Asian Fusion\, Sushi & Spirits Grand Opening/Ribbon Cutting\n\n \n\nThe Windsor Area Chamber of Commerce cordially invites you to the Ribbon Cutting & Grand opening of YUZU Asian Fusion.\n\n \n\nDate: April 16th  \n\nTime: 4:00 PM to 5:00 PM Am PM Ribbon Cutting   4:30 PM\n\nLocation: 431 Main Street\, Windsor Co\n\n \n\nThe event will include light snacks\, and beverages compliments of YUZU Asian Fusion. Although the Open House is a free event\, you are required to register so the Chamber has an accurate count of guests for food and drinks.
X-ALT-DESC;FMTTYPE=text/html:<br />\n<strong><span style="color:#1D3567\;"><span style="font-family:trebuchet ms\,sans-serif\;"><span style="font-size:18.0pt\;">Let&#39\;s Celebrate YUZU Asian Fusion\, Sushi &amp\; Spirits Grand Opening/Ribbon Cutting</span></span></span></strong><br />\n&nbsp\;<br />\n<span style="color:#2E2F2F\;"><span style="font-family:trebuchet ms\,sans-serif\;"><span style="font-size:13.5pt\;">The Windsor Area Chamber of Commerce cordially invites you to the Ribbon Cutting &amp\; Grand opening of</span></span></span> <span style="color:#2E2F2F\;"><span style="font-family:trebuchet ms\,sans-serif\;"><span style="font-size:13.5pt\;">YUZU Asian Fusion.</span></span></span><br />\n&nbsp\;<br />\n<strong><span style="color:#2E2F2F\;"><span style="font-family:trebuchet ms\,sans-serif\;"><span style="font-size:13.5pt\;">Date: April 16<sup>th</sup> &nbsp\;</span></span></span></strong><br />\n<strong><span style="color:#2E2F2F\;"><span style="font-family:trebuchet ms\,sans-serif\;"><span style="font-size:13.5pt\;">Time: 4:00 PM to 5:00 PM Am PM Ribbon Cutting &ndash\; 4:30 PM</span></span></span></strong><br />\n<strong><span style="color:#2E2F2F\;"><span style="font-family:trebuchet ms\,sans-serif\;"><span style="font-size:13.5pt\;">Location: 431 Main Street\, Windsor Co</span></span></span></strong><br />\n&nbsp\;<br />\n<span style="color:#2E2F2F\;"><span style="font-family:trebuchet ms\,sans-serif\;"><span style="font-size:13.5pt\;">The event will include light snacks\, and beverages compliments of YUZU Asian Fusion. Although the Open House is a free event\, you are required to register so the Chamber has an accurate count of guests for food and drinks.&nbsp\;</span></span></span><br />\n&nbsp\;
LOCATION:
UID:e.2900.4863
SEQUENCE:3
DTSTAMP:20260422T064217Z
URL:https://business.windsorchamber.net/events/details/grand-opening-yuzu-asian-fusion-sushi-spirits-4863
END:VEVENT

END:VCALENDAR
