BEGIN:VCALENDAR
VERSION:2.0
PRODID:-//ChamberMaster//Event Calendar 2.0//EN
METHOD:PUBLISH
X-PUBLISHED-TTL:P3D
REFRESH-INTERVAL:P3D
CALSCALE:GREGORIAN
BEGIN:VEVENT
DTSTART:20210203T230000Z
DTEND:20210204T000000Z
X-MICROSOFT-CDO-ALLDAYEVENT:FALSE
SUMMARY:Grand Re-Opening ~ Brickhouse Functional Fitness
DESCRIPTION:Let's Celebrate Brickhouse Functional Fitness!\n\n \n\nThe Windsor Area Chamber of Commerce cordially invites you to the Ribbon Cutting & Grand Re-Opening of Brickhouse Functional Fitness.\n\n \n\nDate: February 3rd\n\nTime: 4:00 PM to 5:00 PM Ribbon Cutting   4:30 PM\n\nLocation: 1111 Diamond Valley Dr\, Windsor\, CO \n\n \n\nThe event will include light snacks\, and beverages compliments of Brickhouse Functional fitness. Although the Open House is a free event\, you are required to register so the Chamber has an accurate count of guests for food and drinks.
X-ALT-DESC;FMTTYPE=text/html:<strong><span style="color:#1D3567\;"><span style="font-family:trebuchet ms\,sans-serif\;"><span style="font-size:18.0pt\;">Let&#39\;s Celebrate Brickhouse Functional Fitness!</span></span></span></strong><br />\n&nbsp\;<br />\n<span style="color:#2E2F2F\;"><span style="font-family:trebuchet ms\,sans-serif\;"><span style="font-size:13.5pt\;">The Windsor Area Chamber of Commerce cordially invites you to the Ribbon Cutting &amp\; Grand Re-Opening of Brickhouse Functional Fitness.</span></span></span><br />\n&nbsp\;<br />\n<strong><span style="color:#2E2F2F\;"><span style="font-family:trebuchet ms\,sans-serif\;"><span style="font-size:13.5pt\;">Date: February 3rd</span></span></span></strong><br />\n<strong><span style="color:#2E2F2F\;"><span style="font-family:trebuchet ms\,sans-serif\;"><span style="font-size:13.5pt\;">Time: 4:00 PM to 5:00 PM Ribbon Cutting &ndash\; 4:30 PM</span></span></span></strong><br />\n<strong><span style="color:#2E2F2F\;"><span style="font-family:trebuchet ms\,sans-serif\;"><span style="font-size:13.5pt\;">Location:</span></span></span></strong> <strong><span style="color:#2E2F2F\;"><span style="font-family:trebuchet ms\,sans-serif\;"><span style="font-size:13.5pt\;">1111 Diamond Valley Dr\, Windsor\, CO </span></span></span></strong><br />\n&nbsp\;<br />\n<span style="color:#2E2F2F\;"><span style="font-family:trebuchet ms\,sans-serif\;"><span style="font-size:13.5pt\;">The event will include light snacks\, and beverages compliments of</span></span></span> <span style="color:#2E2F2F\;"><span style="font-family:trebuchet ms\,sans-serif\;"><span style="font-size:13.5pt\;">Brickhouse Functional fitness. Although the Open House is a free event\, you are required to register so the Chamber has an accurate count of guests for food and drinks.&nbsp\;</span></span></span>
LOCATION:
UID:e.2900.4693
SEQUENCE:3
DTSTAMP:20260422T094628Z
URL:https://business.windsorchamber.net/events/details/grand-re-opening-brickhouse-functional-fitness-4693
END:VEVENT

END:VCALENDAR
