BEGIN:VCALENDAR
VERSION:2.0
PRODID:-//ChamberMaster//Event Calendar 2.0//EN
METHOD:PUBLISH
X-PUBLISHED-TTL:P3D
REFRESH-INTERVAL:P3D
CALSCALE:GREGORIAN
BEGIN:VEVENT
DTSTART:20181024T180000Z
DTEND:20181024T190000Z
X-MICROSOFT-CDO-ALLDAYEVENT:FALSE
SUMMARY:GYM FOR EVERYBODY will HOST NETWORKING AT NOON
DESCRIPTION:The Gym for Every Body will host October's Networking at Noon. The Gym For Every Body is a 24 hour family friendly boutique gym.  They offer personal training\, group training\,classes\, and kids club. The hosts will offer a presentaton about their business and guests can tour the facility.  "Networking at Noon" is an event that individuals have the opportunity to network while learning about other local businesses in our community.
X-ALT-DESC;FMTTYPE=text/html:The Gym for Every Body will host October&#39\;s Networking at Noon. The Gym For Every Body is a 24 hour family friendly boutique gym.&nbsp\; They offer personal training\, group training\,classes\, and kids club. The&nbsp\;hosts will offer a presentaton about their business and guests can tour the facility. &nbsp\;&quot\;Networking at Noon&quot\; is an event that individuals have the opportunity to network while learning about other local businesses in our community.
LOCATION:1293 Main Street - Unit 2
UID:e.2900.1519
SEQUENCE:3
DTSTAMP:20260424T013618Z
URL:https://business.windsorchamber.net/events/details/gym-for-everybody-will-host-networking-at-noon-1519
END:VEVENT

END:VCALENDAR
