BEGIN:VCALENDAR
VERSION:2.0
PRODID:-//ChamberMaster//Event Calendar 2.0//EN
METHOD:PUBLISH
X-PUBLISHED-TTL:P3D
REFRESH-INTERVAL:P3D
CALSCALE:GREGORIAN
BEGIN:VEVENT
DTSTART:20260423T000000Z
DTEND:20260423T020000Z
X-MICROSOFT-CDO-ALLDAYEVENT:FALSE
SUMMARY:Hands on Cooking Class at The Bottled Olive-Italian Date Night
DESCRIPTION:Come experience a culinary hands on experience with special guest\, Chef Troy Heller. You'll delight in using the finest ingredients and the innovative flavor combinations. The menu consists of: Caponata\, Potato Gnocchi with Pulled Chicken\, Gorgonzola Cream and Candied Walnuts.\n\nThis event will sell out fast\, so book today!\n\nAll reservations are final. We cannot accept rescheduling or cancellations. If you are unable to attend\, please have someone else come in your place. Give us a call and let us know!
X-ALT-DESC;FMTTYPE=text/html:<p>Come experience a culinary hands on experience with special guest\, Chef Troy Heller. You&#39\;ll delight in using the finest ingredients and the innovative flavor combinations. The menu consists of: Caponata\, Potato Gnocchi with Pulled Chicken\, Gorgonzola Cream and Candied Walnuts.</p>\n\n<p>This event will sell out fast\, so book today!</p>\n\n<p>All reservations are final. We cannot accept rescheduling or cancellations. If you are unable to attend\, please have someone else come in your place. Give us a call and let us know!</p>\n
LOCATION:The Bottled Olive 1550 Main Street Windsor\, CO 80550
UID:e.2900.16122
SEQUENCE:3
DTSTAMP:20260421T090323Z
URL:https://business.windsorchamber.net/events/details/hands-on-cooking-class-at-the-bottled-olive-italian-date-night-16122
END:VEVENT

END:VCALENDAR
