BEGIN:VCALENDAR
VERSION:2.0
PRODID:-//ChamberMaster//Event Calendar 2.0//EN
METHOD:PUBLISH
X-PUBLISHED-TTL:P3D
REFRESH-INTERVAL:P3D
CALSCALE:GREGORIAN
BEGIN:VEVENT
DTSTART:20201104T170000Z
DTEND:20201105T010000Z
X-MICROSOFT-CDO-ALLDAYEVENT:FALSE
SUMMARY:Holiday Open House ~ Four and Twenty Blackbirds
DESCRIPTION:We love Christmas and we love our customers! To stay safe\, we are holding our Annual Open House for 5 days!\n\nNovember 3rd thru 7th By reservation only!\n\n\n\nWe will take 20 reservations per day - First Come\, First Serve - Reserve your spot today!\n\n\n\nYour FREE Goody Bag will be waiting for you!\n\n\n\nWe follow the Colorado State guidelines for COVID-19 by wearing masks\, cleaning\, and limiting the number of customers in the store to 25 at one time.
X-ALT-DESC;FMTTYPE=text/html:<span style="color: rgb(51\, 51\, 51)\; font-family: arial\; font-size: 18px\; background-color: rgb(255\, 255\, 255)\;">We love Christmas and we love our customers! To stay safe\, we are holding our Annual Open House for 5 days!</span><br style="color: rgb(51\, 51\, 51)\; background-color: rgb(255\, 255\, 255)\; font-family: sans-serif\, Arial\, Verdana\, &quot\;Trebuchet MS&quot\;\; font-size: 13px\;" />\n<span style="color: rgb(51\, 51\, 51)\; font-family: arial\; font-size: 18px\; background-color: rgb(255\, 255\, 255)\;">November 3</span><sup style="color: rgb(51\, 51\, 51)\; background-color: rgb(255\, 255\, 255)\; font-family: sans-serif\, Arial\, Verdana\, &quot\;Trebuchet MS&quot\;\;">rd</sup><span style="color: rgb(51\, 51\, 51)\; font-family: arial\; font-size: 18px\; background-color: rgb(255\, 255\, 255)\;">&nbsp\;thru 7</span><sup style="color: rgb(51\, 51\, 51)\; background-color: rgb(255\, 255\, 255)\; font-family: sans-serif\, Arial\, Verdana\, &quot\;Trebuchet MS&quot\;\;">th</sup><span style="color: rgb(51\, 51\, 51)\; font-family: arial\; font-size: 18px\; background-color: rgb(255\, 255\, 255)\;">&nbsp\;By reservation only!</span><br style="color: rgb(51\, 51\, 51)\; background-color: rgb(255\, 255\, 255)\; font-family: sans-serif\, Arial\, Verdana\, &quot\;Trebuchet MS&quot\;\; font-size: 13px\;" />\n<br style="color: rgb(51\, 51\, 51)\; background-color: rgb(255\, 255\, 255)\; font-family: sans-serif\, Arial\, Verdana\, &quot\;Trebuchet MS&quot\;\; font-size: 13px\;" />\n<span style="color: rgb(51\, 51\, 51)\; font-family: arial\; font-size: 18px\; background-color: rgb(255\, 255\, 255)\;">We will take&nbsp\;</span><strong style="color: rgb(51\, 51\, 51)\; background-color: rgb(255\, 255\, 255)\; font-family: sans-serif\, Arial\, Verdana\, &quot\;Trebuchet MS&quot\;\; font-size: 13px\;">20</strong><span style="color: rgb(51\, 51\, 51)\; font-family: arial\; font-size: 18px\; background-color: rgb(255\, 255\, 255)\;">&nbsp\;reservations per day -&nbsp\;</span><strong style="color: rgb(51\, 51\, 51)\; background-color: rgb(255\, 255\, 255)\; font-family: sans-serif\, Arial\, Verdana\, &quot\;Trebuchet MS&quot\;\; font-size: 13px\;">First Come\, First Serve - Reserve your spot today!</strong><br style="color: rgb(51\, 51\, 51)\; background-color: rgb(255\, 255\, 255)\; font-family: sans-serif\, Arial\, Verdana\, &quot\;Trebuchet MS&quot\;\; font-size: 13px\;" />\n<br style="color: rgb(51\, 51\, 51)\; background-color: rgb(255\, 255\, 255)\; font-family: sans-serif\, Arial\, Verdana\, &quot\;Trebuchet MS&quot\;\; font-size: 13px\;" />\n<span style="color: rgb(51\, 51\, 51)\; font-family: arial\; font-size: 18px\; background-color: rgb(255\, 255\, 255)\;">Your&nbsp\;</span><strong style="color: rgb(51\, 51\, 51)\; background-color: rgb(255\, 255\, 255)\; font-family: sans-serif\, Arial\, Verdana\, &quot\;Trebuchet MS&quot\;\; font-size: 13px\;">FREE</strong><span style="color: rgb(51\, 51\, 51)\; font-family: arial\; font-size: 18px\; background-color: rgb(255\, 255\, 255)\;">&nbsp\;Goody Bag will be waiting for you!</span><br />\n<br />\n<b style="color: rgb(51\, 51\, 51)\; font-family: arial\; font-size: 18px\; background-color: rgb(255\, 255\, 255)\;">We follow the Colorado State guidelines for COVID-19 by wearing masks\, cleaning\, and limiting the number of customers in the store to 25 at one time.&nbsp\;</b>
LOCATION:
UID:e.2900.4667
SEQUENCE:3
DTSTAMP:20260422T160949Z
URL:https://business.windsorchamber.net/events/details/holiday-open-house-four-and-twenty-blackbirds-4667
END:VEVENT

END:VCALENDAR
