BEGIN:VCALENDAR
VERSION:2.0
PRODID:-//ChamberMaster//Event Calendar 2.0//EN
METHOD:PUBLISH
X-PUBLISHED-TTL:P3D
REFRESH-INTERVAL:P3D
CALSCALE:GREGORIAN
BEGIN:VEVENT
DTSTART:20180723T210000Z
DTEND:20180723T213000Z
X-MICROSOFT-CDO-ALLDAYEVENT:FALSE
SUMMARY:Human Bean/Ribbon Cutting
DESCRIPTION:Please come and Welcome Human Bean into our Windsor Community as well as our Windsor Chamber of Commerce.
X-ALT-DESC;FMTTYPE=text/html:Please come and Welcome Human Bean into our Windsor Community as well as our Windsor Chamber of Commerce.
LOCATION:Human Bean - 405 E. Main
UID:e.2900.1494
SEQUENCE:3
DTSTAMP:20260424T052102Z
URL:https://business.windsorchamber.net/events/details/human-bean-ribbon-cutting-1494
END:VEVENT

END:VCALENDAR
