BEGIN:VCALENDAR
VERSION:2.0
PRODID:-//ChamberMaster//Event Calendar 2.0//EN
METHOD:PUBLISH
X-PUBLISHED-TTL:P3D
REFRESH-INTERVAL:P3D
CALSCALE:GREGORIAN
BEGIN:VEVENT
DTSTART:20180829T160000Z
DTEND:20180829T161500Z
X-MICROSOFT-CDO-ALLDAYEVENT:FALSE
SUMMARY:I LOVE LUCY RIBBON CUTTING
DESCRIPTION:Please attend a ribbon cutting and Welcome one of our newest members into the Windsor Chamber\, I Love Lucys Medical Supply.  Great time for you to see what they do and tell them what your business is. Don't forget to bring your business cards.
X-ALT-DESC;FMTTYPE=text/html:Please attend a ribbon cutting and Welcome one of our newest members into the Windsor Chamber\, I Love Lucys Medical Supply.&nbsp\; Great time for you to see what they do and tell them what your business is. Don&#39\;t forget to bring your business cards.
LOCATION:1295 Main Street\, Windsor\, co
UID:e.2900.1510
SEQUENCE:3
DTSTAMP:20260424T041159Z
URL:https://business.windsorchamber.net/events/details/i-love-lucy-ribbon-cutting-1510
END:VEVENT

END:VCALENDAR
