BEGIN:VCALENDAR
VERSION:2.0
PRODID:-//ChamberMaster//Event Calendar 2.0//EN
METHOD:PUBLISH
X-PUBLISHED-TTL:P3D
REFRESH-INTERVAL:P3D
CALSCALE:GREGORIAN
BEGIN:VEVENT
DTSTART:20260410T000000Z
DTEND:20260410T030000Z
X-MICROSOFT-CDO-ALLDAYEVENT:FALSE
SUMMARY:Joy on the Journey
DESCRIPTION:Join us for 2026 Joy on the Journey Annual Fundraising event as we celebrate the power of stories. Stories that shape us\, connect us\, and change the world for a greater good.\n\nWe are honored to welcome Dick Foth\, master storyteller who has spent eight decades helping people make sense of life through story. With warmth\, humor\, and wisdom\, Dick invites us to rediscover hope\, find courage in hard seasons\, and remember how kindness\, caring\, and generosity bring us back together.\n\nYour attendance and financial support will help write a new story for families navigating dementia\, one filled with hope\, connection\, laughter\, and joy. Together\, we are spreading awareness of the Dementia Together Education\, Enrichment\, and Hope programs and changing the dementia narrative from crisis and tragedy to contentment and hope.
X-ALT-DESC;FMTTYPE=text/html:<p style="margin-left:0px\; margin-right:0px">Join us for&nbsp\;<strong>2026 Joy on the Journey Annual Fundraising event</strong><strong>&nbsp\;</strong>as we celebrate the power of stories. Stories that shape us\, connect us\, and change the world for a greater good.</p>\n\n<p style="margin-left:0px\; margin-right:0px">We are honored to welcome&nbsp\;<strong>Dick Foth</strong>\, master storyteller who has spent eight decades helping people make sense of life through story. With warmth\, humor\, and wisdom\, Dick invites us to rediscover hope\, find courage in hard seasons\, and remember how kindness\, caring\, and generosity bring us back together.</p>\n\n<p style="margin-left:0px\; margin-right:0px">Your attendance and financial support will help&nbsp\;<strong>write a new story for families navigating dementia</strong>\, one filled with hope\, connection\, laughter\, and joy. Together\, we are spreading awareness of the Dementia Together Education\, Enrichment\, and Hope programs and changing the dementia narrative from&nbsp\;<strong>crisis and tragedy to contentment and hope</strong>.</p>\n<br />\n&nbsp\;
LOCATION:Embassy Suites\, Loveland\, CO 4705 Clydesdale Pkwy\, Loveland\, CO 80538
UID:e.2900.15947
SEQUENCE:3
DTSTAMP:20260426T040441Z
URL:https://business.windsorchamber.net/events/details/joy-on-the-journey-15947
END:VEVENT

END:VCALENDAR
