BEGIN:VCALENDAR
VERSION:2.0
PRODID:-//ChamberMaster//Event Calendar 2.0//EN
METHOD:PUBLISH
X-PUBLISHED-TTL:P3D
REFRESH-INTERVAL:P3D
CALSCALE:GREGORIAN
BEGIN:VEVENT
DTSTART:20170630T160000Z
DTEND:20170630T161500Z
X-MICROSOFT-CDO-ALLDAYEVENT:FALSE
SUMMARY:Just for Kix Ribbon Cutting
DESCRIPTION:Ribbon Cutting for  "Just for Kix"! Come and see their new location.
X-ALT-DESC;FMTTYPE=text/html:Ribbon Cutting for&nbsp\; &quot\;Just for Kix&quot\;! Come and see their new location.
LOCATION:1295 Main Street\, Windsor\, CO
UID:e.2900.81
SEQUENCE:3
DTSTAMP:20260425T004649Z
URL:https://business.windsorchamber.net/events/details/just-for-kix-ribbon-cutting-81
END:VEVENT

END:VCALENDAR
