BEGIN:VCALENDAR
VERSION:2.0
PRODID:-//ChamberMaster//Event Calendar 2.0//EN
METHOD:PUBLISH
X-PUBLISHED-TTL:P3D
REFRESH-INTERVAL:P3D
CALSCALE:GREGORIAN
BEGIN:VEVENT
DTSTART:20181218T164500Z
DTEND:20181218T170000Z
X-MICROSOFT-CDO-ALLDAYEVENT:FALSE
SUMMARY:KUM & GO
DESCRIPTION:The Windsor Chamber will hold a ribbon cutting for KUM & GO - 375 E. MAIN STREET - You will get to check out the newest convienence store in Windsor.
X-ALT-DESC;FMTTYPE=text/html:The Windsor Chamber will hold a ribbon cutting for KUM &amp\; GO - 375 E. MAIN STREET - You will get to check out the newest convienence store in Windsor.
LOCATION:KUM & GO - 375 E. MAIN
UID:e.2900.1549
SEQUENCE:3
DTSTAMP:20260423T230651Z
URL:https://business.windsorchamber.net/events/details/kum-go-1549
END:VEVENT

END:VCALENDAR
