BEGIN:VCALENDAR
VERSION:2.0
PRODID:-//ChamberMaster//Event Calendar 2.0//EN
METHOD:PUBLISH
X-PUBLISHED-TTL:P3D
REFRESH-INTERVAL:P3D
CALSCALE:GREGORIAN
BEGIN:VEVENT
DTSTART:20180816T133000Z
DTEND:20180816T150000Z
X-MICROSOFT-CDO-ALLDAYEVENT:FALSE
SUMMARY:Landmark Homes/Ribbon Cutting and Breakfast
DESCRIPTION:Join Landmark Homes as we celebrate their new location with a Ribbon Cutting and Breakfast.  Their beautiful new facility is located in HIghland Meadows along Fairgrounds Avenue.  It even comes complete with a wonderful view of the mountains.  So be sure and mark your calendars now to come for the Ribbon Cutting and stay for the breakfast.  Hope to see you there!  Ribbon Cutting will be at approx. 8am.
X-ALT-DESC;FMTTYPE=text/html:Join Landmark Homes as we celebrate their new location with a Ribbon Cutting and Breakfast.&nbsp\; Their beautiful new facility is located in HIghland Meadows along Fairgrounds Avenue.&nbsp\; It even comes complete with a wonderful view of the mountains.&nbsp\; So be sure and mark your calendars now to come for the Ribbon Cutting and stay for the breakfast.&nbsp\; Hope to see you there!&nbsp\; Ribbon Cutting will be at approx. 8am.
LOCATION:Landmark Homes - 6341 Fairgrounds Avenue\, Suite 100
UID:e.2900.1496
SEQUENCE:3
DTSTAMP:20260424T052302Z
URL:https://business.windsorchamber.net/events/details/landmark-homes-ribbon-cutting-and-breakfast-1496
END:VEVENT

END:VCALENDAR
