BEGIN:VCALENDAR
VERSION:2.0
PRODID:-//ChamberMaster//Event Calendar 2.0//EN
METHOD:PUBLISH
X-PUBLISHED-TTL:P3D
REFRESH-INTERVAL:P3D
CALSCALE:GREGORIAN
BEGIN:VEVENT
DTSTART:20231109T230000Z
DTEND:20231110T000000Z
X-MICROSOFT-CDO-ALLDAYEVENT:FALSE
SUMMARY:Let's Celebrate- American Legacy Academy
DESCRIPTION:Let's Celebrate and welcome to the Chamber American Legacy Academy!
X-ALT-DESC;FMTTYPE=text/html:Let&#39\;s Celebrate and welcome to the Chamber American Legacy Academy!
LOCATION:1870 Marina Drive\, Windsor\, CO 80550
UID:e.2900.10849
SEQUENCE:3
DTSTAMP:20260420T062620Z
URL:https://business.windsorchamber.net/events/details/let-s-celebrate-american-legacy-academy-10849
END:VEVENT

END:VCALENDAR
