BEGIN:VCALENDAR
VERSION:2.0
PRODID:-//ChamberMaster//Event Calendar 2.0//EN
METHOD:PUBLISH
X-PUBLISHED-TTL:P3D
REFRESH-INTERVAL:P3D
CALSCALE:GREGORIAN
BEGIN:VEVENT
DTSTART:20241001T220000Z
DTEND:20241001T230000Z
X-MICROSOFT-CDO-ALLDAYEVENT:FALSE
SUMMARY:Let's Celebrate - Coffee House 29
DESCRIPTION:Let's Celebrate Coffee House 29\n\n \n\nThe Windsor Area Chamber of Commerce cordially invites you to the Ribbon Cutting of Coffee House 29\n\n \n\nDate: October 1st\, 2024\n\nTime: 4:00 PM to 5:00 PM Ribbon Cutting   4:30 PM
X-ALT-DESC;FMTTYPE=text/html:<br />\n<a name="_Hlk76715107"><strong><span style="color:#1D3567\;"><span style="font-family:trebuchet ms\,sans-serif\;"><span style="font-size:18.0pt\;">Let&#39\;s Celebrate Coffee House 29</span></span></span></strong></a><br />\n&nbsp\;<br />\n<span style="color:#2E2F2F\;"><span style="font-family:trebuchet ms\,sans-serif\;"><span style="font-size:13.5pt\;">The Windsor Area Chamber of Commerce cordially invites you to the Ribbon Cutting of Coffee House 29</span></span></span><br />\n&nbsp\;<br />\n<strong><span style="color:#2E2F2F\;"><span style="font-family:trebuchet ms\,sans-serif\;"><span style="font-size:13.5pt\;">Date: October 1st\, 2024</span></span></span></strong><br />\n<strong><span style="color:#2E2F2F\;"><span style="font-family:trebuchet ms\,sans-serif\;"><span style="font-size:13.5pt\;">Time: 4:00 PM to 5:00 PM Ribbon Cutting &ndash\; 4:30 PM</span></span></span></strong><br />\n&nbsp\;<br />\n&nbsp\;
LOCATION:Coffee House 29 1039 Main St K Windsor\, CO 80550-7148
UID:e.2900.13289
SEQUENCE:3
DTSTAMP:20260421T101444Z
URL:https://business.windsorchamber.net/events/details/let-s-celebrate-coffee-house-29-13289
END:VEVENT

END:VCALENDAR
