BEGIN:VCALENDAR
VERSION:2.0
PRODID:-//ChamberMaster//Event Calendar 2.0//EN
METHOD:PUBLISH
X-PUBLISHED-TTL:P3D
REFRESH-INTERVAL:P3D
CALSCALE:GREGORIAN
BEGIN:VEVENT
DTSTART:20231024T220000Z
DTEND:20231024T230000Z
X-MICROSOFT-CDO-ALLDAYEVENT:FALSE
SUMMARY:Let's Celebrate CYO
DESCRIPTION:Let's Celebrate and welcome to the Chamber Colorado Youth Outdoors
X-ALT-DESC;FMTTYPE=text/html:Let&#39\;s Celebrate and welcome to the Chamber Colorado Youth Outdoors
LOCATION:4927 County Rd 36\, Fort Collins\, CO 80528
UID:e.2900.10847
SEQUENCE:3
DTSTAMP:20260420T085900Z
URL:https://business.windsorchamber.net/events/details/let-s-celebrate-cyo-10847
END:VEVENT

END:VCALENDAR
