BEGIN:VCALENDAR
VERSION:2.0
PRODID:-//ChamberMaster//Event Calendar 2.0//EN
METHOD:PUBLISH
X-PUBLISHED-TTL:P3D
REFRESH-INTERVAL:P3D
CALSCALE:GREGORIAN
BEGIN:VEVENT
DTSTART:20220526T220000Z
DTEND:20220526T230000Z
X-MICROSOFT-CDO-ALLDAYEVENT:FALSE
SUMMARY:Let's Celebrate - Guild Mortgage
DESCRIPTION:Let's Celebrate Guild Mortgage!\n\n \n\nThe Windsor Area Chamber of Commerce cordially invites you to the Ribbon Cutting & Grand opening of Guild Mortgage.\n\n \n\nDate: May 26th\n\nTime: 4:00 PM to 5:00 PM Ribbon Cutting   4:30 PM\n\nLocation: 111 5th St\, Windsor Co\n\n \n\nThe event will include light snacks\, and beverages compliments of Guild Mortgage. Although the Open House is a free event\, you are required to register so the Chamber has an accurate count of guests for food and drinks.
X-ALT-DESC;FMTTYPE=text/html:<br />\n<a name="_Hlk76715107"><strong><span style="color:#1D3567\;"><span style="font-family:trebuchet ms\,sans-serif\;"><span style="font-size:18.0pt\;">Let&#39\;s Celebrate Guild Mortgage!</span></span></span></strong></a><br />\n&nbsp\;<br />\n<span style="color:#2E2F2F\;"><span style="font-family:trebuchet ms\,sans-serif\;"><span style="font-size:13.5pt\;">The Windsor Area Chamber of Commerce cordially invites you to the Ribbon Cutting &amp\; Grand opening of Guild Mortgage.</span></span></span><br />\n&nbsp\;<br />\n<strong><span style="color:#2E2F2F\;"><span style="font-family:trebuchet ms\,sans-serif\;"><span style="font-size:13.5pt\;">Date: May 26th</span></span></span></strong><br />\n<strong><span style="color:#2E2F2F\;"><span style="font-family:trebuchet ms\,sans-serif\;"><span style="font-size:13.5pt\;">Time: 4:00 PM to 5:00 PM Ribbon Cutting &ndash\; 4:30 PM</span></span></span></strong><br />\n<span style="color: rgb(46\, 47\, 47)\; font-family: &quot\;trebuchet ms&quot\;\, sans-serif\; font-weight: bold\; font-size: 13.5pt\;">Location: 111 5th St\,&nbsp\;</span><strong><span style="color:#2E2F2F\;"><span style="font-family:trebuchet ms\,sans-serif\;"><span style="font-size:13.5pt\;">Windsor Co</span></span></span></strong><br />\n&nbsp\;<br />\n<span style="color: rgb(46\, 47\, 47)\; font-family: &quot\;trebuchet ms&quot\;\, sans-serif\; font-size: 13.5pt\;">The event will include light snacks\, and beverages compliments of Guild Mortgage.&nbsp\;</span><span style="color:#2E2F2F\;"><span style="font-family:trebuchet ms\,sans-serif\;"><span style="font-size:13.5pt\;">Although the Open House is a free event\, you are required to register so the Chamber has an accurate count of guests for food and drinks.&nbsp\;</span></span></span><br />\n&nbsp\;<br />\n&nbsp\;
LOCATION:
UID:e.2900.5523
SEQUENCE:3
DTSTAMP:20260421T115341Z
URL:https://business.windsorchamber.net/events/details/let-s-celebrate-guild-mortgage-5523
END:VEVENT

END:VCALENDAR
