BEGIN:VCALENDAR
VERSION:2.0
PRODID:-//ChamberMaster//Event Calendar 2.0//EN
METHOD:PUBLISH
X-PUBLISHED-TTL:P3D
REFRESH-INTERVAL:P3D
CALSCALE:GREGORIAN
BEGIN:VEVENT
DTSTART:20221015T160000Z
DTEND:20221016T050000Z
X-MICROSOFT-CDO-ALLDAYEVENT:FALSE
SUMMARY:Let's Celebrate - Les Schwab Tires
DESCRIPTION:Let's Celebrate Les Schwab Tires!\n\n \n\nThe Windsor Area Chamber of Commerce cordially invites you to the Ribbon Cutting & Grand opening of Les Schwab Tires. \n\n \n\nDate: October 15th\n\nTime: 10:00 AM to 11:00 AM Ribbon Cutting   10:30 AM\n\nLocation: 1650 Main St. Windsor\, CO 80550\n\n \n\nThe event will include light snacks\, and beverages compliments of Les Schwab Tires. Although the Open House is a free event\, you are required to register so the Chamber has an accurate count of guests for food and drinks.
X-ALT-DESC;FMTTYPE=text/html:<br />\n<a name="_Hlk76715107"><strong><span style="color:#1D3567\;"><span style="font-family:trebuchet ms\,sans-serif\;"><span style="font-size:18.0pt\;">Let&#39\;s Celebrate Les Schwab Tires!</span></span></span></strong></a><br />\n&nbsp\;<br />\n<span style="color:#2E2F2F\;"><span style="font-family:trebuchet ms\,sans-serif\;"><span style="font-size:13.5pt\;">The Windsor Area Chamber of Commerce cordially invites you to the Ribbon Cutting &amp\; Grand opening of Les Schwab Tires.&nbsp\;</span></span></span><br />\n&nbsp\;<br />\n<strong><span style="color:#2E2F2F\;"><span style="font-family:trebuchet ms\,sans-serif\;"><span style="font-size:13.5pt\;">Date: October 15th</span></span></span></strong><br />\n<strong><span style="color:#2E2F2F\;"><span style="font-family:trebuchet ms\,sans-serif\;"><span style="font-size:13.5pt\;">Time: 10:00 AM to 11:00 AM Ribbon Cutting &ndash\; 10:30 AM</span></span></span></strong><br />\n<span style="color: rgb(46\, 47\, 47)\; font-family: &quot\;trebuchet ms&quot\;\, sans-serif\; font-weight: bold\; font-size: 13.5pt\;">Location: 1650 Main St. Windsor\, CO 80550</span><br />\n&nbsp\;<br />\n<font color="#2e2f2f" face="trebuchet ms\, sans-serif"><span style="font-size: 13.5pt\;">The event will include light snacks\, and beverages compliments of Les Schwab Tires</span><span style="font-size: 13.5pt\;">.&nbsp\;</span></font><span style="color:#2E2F2F\;"><span style="font-family:trebuchet ms\,sans-serif\;"><span style="font-size:13.5pt\;">Although the Open House is a free event\, you are required to register so the Chamber has an accurate count of guests for food and drinks.&nbsp\;</span></span></span><br />\n&nbsp\;<br />\n&nbsp\;
LOCATION:
UID:e.2900.5720
SEQUENCE:3
DTSTAMP:20260421T053016Z
URL:https://business.windsorchamber.net/events/details/let-s-celebrate-les-schwab-tires-5720
END:VEVENT

END:VCALENDAR
