BEGIN:VCALENDAR
VERSION:2.0
PRODID:-//ChamberMaster//Event Calendar 2.0//EN
METHOD:PUBLISH
X-PUBLISHED-TTL:P3D
REFRESH-INTERVAL:P3D
CALSCALE:GREGORIAN
BEGIN:VEVENT
DTSTART:20240322T220000Z
DTEND:20240322T230000Z
X-MICROSOFT-CDO-ALLDAYEVENT:FALSE
SUMMARY:Let's Celebrate Sage Dermatology
DESCRIPTION:Let's Celebrate Sage Dermatology!\n\n \n\nThe Windsor Area Chamber of Commerce cordially invites you to the Ribbon Cutting of Sage Dermatology.\n\n \n\nDate: March 22nd 2024\n\nTime: 4:00 PM to 5:00 PM Ribbon Cutting   4:30 PM\n\nLocation: Sage Dermatology\n\n1555 Main Street\, Unit A6 Windsor CO 80550\n\n \n\nAlthough the Open House is a free event\, you are required to register so the Chamber has an accurate count of guests for food and drinks.
X-ALT-DESC;FMTTYPE=text/html:<span style="box-sizing: border-box\; color: rgb(51\, 51\, 51)\; font-family: Poppins\, sans-serif\; background-color: rgb(255\, 255\, 255)\; font-size: 26px\;"><span style="box-sizing: border-box\; font-weight: bolder\;">Let&#39\;s Celebrate Sage Dermatology!</span></span><br style="box-sizing: border-box\; color: rgb(51\, 51\, 51)\; background-color: rgb(255\, 255\, 255)\; font-family: sans-serif\, Arial\, Verdana\, &quot\;Trebuchet MS&quot\;\; font-size: 13px\;" />\n<span style="box-sizing: border-box\; color: rgb(51\, 51\, 51)\; font-family: sans-serif\, Arial\, Verdana\, &quot\;Trebuchet MS&quot\;\; font-size: 13px\; background-color: rgb(255\, 255\, 255)\;">&nbsp\;</span><br style="box-sizing: border-box\; color: rgb(51\, 51\, 51)\; background-color: rgb(255\, 255\, 255)\; font-family: sans-serif\, Arial\, Verdana\, &quot\;Trebuchet MS&quot\;\; font-size: 13px\;" />\n<span style="box-sizing: border-box\; background-color: rgb(255\, 255\, 255)\; font-family: sans-serif\, Arial\, Verdana\, &quot\;Trebuchet MS&quot\;\; font-size: 13px\; color: rgb(46\, 47\, 47)\;"><span style="box-sizing: border-box\; font-family: &quot\;trebuchet ms&quot\;\, sans-serif\;"><span style="box-sizing: border-box\; font-size: 13.5pt\;">The Windsor Area Chamber of Commerce cordially invites you to the Ribbon Cutting of Sage Dermatology.</span></span></span><br style="box-sizing: border-box\; color: rgb(51\, 51\, 51)\; background-color: rgb(255\, 255\, 255)\; font-family: sans-serif\, Arial\, Verdana\, &quot\;Trebuchet MS&quot\;\; font-size: 13px\;" />\n<span style="box-sizing: border-box\; color: rgb(51\, 51\, 51)\; font-family: sans-serif\, Arial\, Verdana\, &quot\;Trebuchet MS&quot\;\; font-size: 13px\; background-color: rgb(255\, 255\, 255)\;">&nbsp\;</span><br style="box-sizing: border-box\; color: rgb(51\, 51\, 51)\; background-color: rgb(255\, 255\, 255)\; font-family: sans-serif\, Arial\, Verdana\, &quot\;Trebuchet MS&quot\;\; font-size: 13px\;" />\n<span style="box-sizing: border-box\; font-weight: bolder\; color: rgb(51\, 51\, 51)\; background-color: rgb(255\, 255\, 255)\; font-family: sans-serif\, Arial\, Verdana\, &quot\;Trebuchet MS&quot\;\; font-size: 13px\;"><span style="box-sizing: border-box\; color: rgb(46\, 47\, 47)\;"><span style="box-sizing: border-box\; font-family: &quot\;trebuchet ms&quot\;\, sans-serif\;"><span style="box-sizing: border-box\; font-size: 13.5pt\;">Date: March 22nd 2024</span></span></span></span><br style="box-sizing: border-box\; color: rgb(51\, 51\, 51)\; background-color: rgb(255\, 255\, 255)\; font-family: sans-serif\, Arial\, Verdana\, &quot\;Trebuchet MS&quot\;\; font-size: 13px\;" />\n<span style="box-sizing: border-box\; font-weight: bolder\; color: rgb(51\, 51\, 51)\; background-color: rgb(255\, 255\, 255)\; font-family: sans-serif\, Arial\, Verdana\, &quot\;Trebuchet MS&quot\;\; font-size: 13px\;"><span style="box-sizing: border-box\; color: rgb(46\, 47\, 47)\;"><span style="box-sizing: border-box\; font-family: &quot\;trebuchet ms&quot\;\, sans-serif\;"><span style="box-sizing: border-box\; font-size: 13.5pt\;">Time: 4:00 PM to 5:00 PM Ribbon Cutting &ndash\; 4:30 PM</span></span></span></span><br style="box-sizing: border-box\; color: rgb(51\, 51\, 51)\; background-color: rgb(255\, 255\, 255)\; font-family: sans-serif\, Arial\, Verdana\, &quot\;Trebuchet MS&quot\;\; font-size: 13px\;" />\n<span style="box-sizing: border-box\; background-color: rgb(255\, 255\, 255)\; color: rgb(46\, 47\, 47)\; font-family: &quot\;trebuchet ms&quot\;\, sans-serif\; font-weight: bold\; font-size: 13.5pt\;">Location: Sage Dermatology<br style="box-sizing: border-box\;" />\n1555 Main Street\, Unit A6 Windsor CO 80550</span><br style="box-sizing: border-box\; color: rgb(51\, 51\, 51)\; background-color: rgb(255\, 255\, 255)\; font-family: sans-serif\, Arial\, Verdana\, &quot\;Trebuchet MS&quot\;\; font-size: 13px\;" />\n<span style="box-sizing: border-box\; color: rgb(51\, 51\, 51)\; font-family: sans-serif\, Arial\, Verdana\, &quot\;Trebuchet MS&quot\;\; font-size: 13px\; background-color: rgb(255\, 255\, 255)\;">&nbsp\;</span><br style="box-sizing: border-box\; color: rgb(51\, 51\, 51)\; background-color: rgb(255\, 255\, 255)\; font-family: sans-serif\, Arial\, Verdana\, &quot\;Trebuchet MS&quot\;\; font-size: 13px\;" />\n<span style="box-sizing: border-box\; background-color: rgb(255\, 255\, 255)\; font-family: sans-serif\, Arial\, Verdana\, &quot\;Trebuchet MS&quot\;\; font-size: 13px\; color: rgb(46\, 47\, 47)\;"><span style="box-sizing: border-box\; font-family: &quot\;trebuchet ms&quot\;\, sans-serif\;"><span style="box-sizing: border-box\; font-size: 13.5pt\;">Although the Open House is a free event\, you are required to register so the Chamber has an accurate count of guests for food and drinks.&nbsp\;</span></span></span>
LOCATION:Sage Dermatology 1555 Main St Unit A6 Windsor. CO 80550
UID:e.2900.12341
SEQUENCE:3
DTSTAMP:20260420T002304Z
URL:https://business.windsorchamber.net/events/details/let-s-celebrate-sage-dermatology-12341
END:VEVENT

END:VCALENDAR
