BEGIN:VCALENDAR
VERSION:2.0
PRODID:-//ChamberMaster//Event Calendar 2.0//EN
METHOD:PUBLISH
X-PUBLISHED-TTL:P3D
REFRESH-INTERVAL:P3D
CALSCALE:GREGORIAN
BEGIN:VEVENT
DTSTART:20260422T000000Z
DTEND:20260422T020000Z
X-MICROSOFT-CDO-ALLDAYEVENT:FALSE
SUMMARY:Let's Roll-A Hands On Sushi Rolling Experience
DESCRIPTION:Get ready to roll up your sleeves and dive into the art of sushi in this fun\, hands-on cooking class! Let's Roll! is designed to take the mystery out of sushi-making and give you the confidence to create beautiful\, delicious sushi at home.\n\nIn this interactive class\, you'll learn how to properly prepare and season sushi rice\, work with nori\, and master essential rolling techniques. We'll guide you step-by-step through creating both raw and cooked sushi rolls\, covering ingredient selection\, balance of flavors\, and rolling styles so you feel comfortable and confident with a variety of options.\n\nYou will work in pairs\, rolling and assembling multiple sushi creations while learning insider tips for clean rolls\, proper filling ratios\, and simple presentation techniques. Whether you're new to sushi or looking to refine your skills\, this class is approachable\, informative\, and seriously fun.\n\n\n\nOnce the rolling is done\, we'll sit down together and enjoy the sushi you've made because the best part of cooking is eating!\n\nCooking Class Cancellation Policy\n\nAll cooking class sales are final.\n\nWe understand that plans can change. To best accommodate all our guests and manage scheduling effectively\, we kindly ask for at least 7 days' notice if you need to reschedule your event.\n\nIf you're unable to attend\, you're welcome to send someone in your place. Just give us a call at (970) 699-5995 and let us know who to expect.\n\nThank you for your understanding and support!
X-ALT-DESC;FMTTYPE=text/html:<p>Get ready to roll up your sleeves and dive into the art of sushi in this fun\, hands-on cooking class!&nbsp\;<strong>Let&rsquo\;s Roll!</strong>&nbsp\;is designed to take the mystery out of sushi-making and give you the confidence to create beautiful\, delicious sushi at home.</p>\n\n<p>In this interactive class\, you&rsquo\;ll learn how to properly prepare and season sushi rice\, work with nori\, and master essential rolling techniques. We&rsquo\;ll guide you step-by-step through creating both&nbsp\;<strong>raw and cooked sushi rolls</strong>\, covering ingredient selection\, balance of flavors\, and rolling styles so you feel comfortable and confident with a variety of options.</p>\n\n<p>You will work in pairs\, rolling and assembling multiple sushi creations while learning insider tips for clean rolls\, proper filling ratios\, and simple presentation techniques. Whether you&rsquo\;re new to sushi or looking to refine your skills\, this class is approachable\, informative\, and seriously fun.<br />\n<br />\nOnce the rolling is done\, we&rsquo\;ll sit down together and enjoy the sushi you&rsquo\;ve made&mdash\;because the best part of cooking is eating!</p>\n\n<p><strong>Cooking Class Cancellation Policy</strong></p>\n\n<p>All cooking class sales are final.</p>\n\n<p>We understand that plans can change. To best accommodate all our guests and manage scheduling effectively\, we kindly ask for&nbsp\;<strong>at least 7 days&#39\; notice</strong>&nbsp\;if you need to reschedule your event.</p>\n\n<p>If you&#39\;re unable to attend\, you&#39\;re welcome to send someone in your place. Just give us a call at&nbsp\;<strong>(970) 699-5995</strong>&nbsp\;and let us know who to expect.</p>\n\n<p>Thank you for your understanding and support!</p>\n\n<p>&nbsp\;</p>\n\n<p>&nbsp\;</p>\n
LOCATION:The Bottled Olive 1550 Main Street #130 Windsor\, CO 80550
UID:e.2900.16093
SEQUENCE:3
DTSTAMP:20260421T090404Z
URL:https://business.windsorchamber.net/events/details/let-s-roll-a-hands-on-sushi-rolling-experience-16093
END:VEVENT

END:VCALENDAR
