BEGIN:VCALENDAR
VERSION:2.0
PRODID:-//ChamberMaster//Event Calendar 2.0//EN
METHOD:PUBLISH
X-PUBLISHED-TTL:P3D
REFRESH-INTERVAL:P3D
CALSCALE:GREGORIAN
BEGIN:VEVENT
DTSTART:20190325T130000Z
DTEND:20190325T190000Z
X-MICROSOFT-CDO-ALLDAYEVENT:FALSE
SUMMARY:Main park's West Playground to Cosed March 25th
DESCRIPTION:Main Park's newest playgroud\, 300 Locust St. will be temporarily closed Monday\, March 25\, from 7am to 1pm \, weather permitting\, so town staffr can carefully remove a 111 yar old ash tree located adjacent to play structures.
X-ALT-DESC;FMTTYPE=text/html:Main Park&#39\;s newest playgroud\, 300 Locust St. will be temporarily closed Monday\, March 25\, from 7am to 1pm \, weather permitting\, so town staffr can carefully remove a 111 yar old ash tree located adjacent to play structures.
LOCATION:Windsor Main Park
UID:e.2900.1592
SEQUENCE:3
DTSTAMP:20260423T191434Z
URL:https://business.windsorchamber.net/events/details/main-park-s-west-playground-to-cosed-march-25th-1592
END:VEVENT

END:VCALENDAR
