BEGIN:VCALENDAR
VERSION:2.0
PRODID:-//ChamberMaster//Event Calendar 2.0//EN
METHOD:PUBLISH
X-PUBLISHED-TTL:P3D
REFRESH-INTERVAL:P3D
CALSCALE:GREGORIAN
BEGIN:VEVENT
DTSTART:20190212T190000Z
DTEND:20190212T200000Z
X-MICROSOFT-CDO-ALLDAYEVENT:FALSE
SUMMARY:Marketing Update/Katie Baker-Edward Jone
DESCRIPTION:Come and hear the Marketing Update with Edward Jones/Katie Baker.
X-ALT-DESC;FMTTYPE=text/html:Come and hear the Marketing Update with Edward Jones/Katie Baker.
LOCATION:Edward Jones 4025 St. Cloud Drive Loveland\, CO Across from the Boot Grill
UID:e.2900.1570
SEQUENCE:3
DTSTAMP:20260423T204511Z
URL:https://business.windsorchamber.net/events/details/marketing-update-katie-baker-edward-jone-1570
END:VEVENT

END:VCALENDAR
