BEGIN:VCALENDAR
VERSION:2.0
PRODID:-//ChamberMaster//Event Calendar 2.0//EN
METHOD:PUBLISH
X-PUBLISHED-TTL:P3D
REFRESH-INTERVAL:P3D
CALSCALE:GREGORIAN
BEGIN:VEVENT
DTSTART:20170510T160000Z
DTEND:20170510T161500Z
X-MICROSOFT-CDO-ALLDAYEVENT:FALSE
SUMMARY:Martin/Martin Ribbon Cutting
DESCRIPTION:Ribbon Cutting for Martin/Martin at our Windsor Chamber office.
X-ALT-DESC;FMTTYPE=text/html:Ribbon Cutting for Martin/Martin at our Windsor Chamber office.
LOCATION:Windsor Chamber office at 421 Main Street.
UID:e.2900.51
SEQUENCE:3
DTSTAMP:20260425T021053Z
URL:https://business.windsorchamber.net/events/details/martin-martin-ribbon-cutting-51
END:VEVENT

END:VCALENDAR
