BEGIN:VCALENDAR
VERSION:2.0
PRODID:-//ChamberMaster//Event Calendar 2.0//EN
METHOD:PUBLISH
X-PUBLISHED-TTL:P3D
REFRESH-INTERVAL:P3D
CALSCALE:GREGORIAN
BEGIN:VEVENT
DTSTART:20190117T190000Z
DTEND:20190117T203000Z
X-MICROSOFT-CDO-ALLDAYEVENT:FALSE
SUMMARY:Matt Meuli Attorney: Don't Leave Your Family At Risk!
DESCRIPTION:Let Personal Family Lawyer \, Matt Meuli\, answer all your questions at this FREE educational event to find out how to keep your family out of court and out of conflict\, and your assests out of the hands of the government.\n\n1. Why you need an estate plan\, even if you aren't rich. ( And how it may be even more important for family's of modest means)\n\n2. How to keep your assests out of Probate and to avoid disinheriting your kids.\n\n3. How to take care of you and your loved ones during incapacity.\n\n4. What estate planning should cost and who pays the cost of a "too cheap" plan.\n\nCan't find a babysitter? Bring the kids! Light refreshments will be provided for all and adult supervision will be available for the kids!
X-ALT-DESC;FMTTYPE=text/html:Let Personal Family Lawyer \, Matt Meuli\, answer all your questions at this FREE educational event to find out how to keep your family out of court and out of conflict\, and your assests out of the hands of the government.<br />\n1. Why you need an estate plan\, even if you aren&#39\;t rich. ( And how it may be even more important for family&#39\;s of modest means)<br />\n2. How to keep your assests out of Probate and to avoid disinheriting your kids.<br />\n3. How to take care of you and your loved ones during incapacity.<br />\n4. What estate planning should cost and who pays the cost of a &quot\;too cheap&quot\; plan.<br />\nCan&#39\;t find a babysitter? Bring the kids! Light refreshments will be provided for all and adult supervision will be available for the kids!<br />\n&nbsp\;
LOCATION:Windsor Community Playhouse 561 E. Garden Drive\, Unit A Windsor\, CO
UID:e.2900.1560
SEQUENCE:3
DTSTAMP:20260423T231208Z
URL:https://business.windsorchamber.net/events/details/matt-meuli-attorney-don-t-leave-your-family-at-risk-1560
END:VEVENT

END:VCALENDAR
