BEGIN:VCALENDAR
VERSION:2.0
PRODID:-//ChamberMaster//Event Calendar 2.0//EN
METHOD:PUBLISH
X-PUBLISHED-TTL:P3D
REFRESH-INTERVAL:P3D
CALSCALE:GREGORIAN
BEGIN:VEVENT
DTSTART:20181013T140000Z
DTEND:20181013T180000Z
X-MICROSOFT-CDO-ALLDAYEVENT:FALSE
SUMMARY:MEDICAL FITNESS HEALTH FAIR
DESCRIPTION:The Medical Fitness Health Fair will offer a variety of FREE and LOW Cost health screenings to the community.  In addition to helth screenings\, there will be a variety of boohs providing educational information.\n\nSCREENING OPORTUNITIES\n\nTreadmill gate analysis- Water Valley PT\n\nBone density screening - Aspen Club\n\nVision Screening - Eye Cener of Northern Colorado\n\nPostural Screening - Peak Performance Chiropractic/Wellness Center\n\nBlood Pressure & Cholesterol Schreening - Healthy Hearts\n\nBody Scan/Composition analysis - Max Muscle\n\nAudio Screening - Peakview Audiology\n\nThermography scan - Althoff Family Chiropractic\n\nFoot Screening/pain Analysis-Rocky Mtn. Chiropractic\n\nPrimitive Reflex Check - Brain Balance\n\nEDUCATIONAL AND OTHER OPPORTUNITIES\n\nChair Massage -MedFit Massage\n\nAccupuncture Information - Fort Collins Accupuncture\n\nMammogram information - Breast Services\n\nSelf Skin Checks - Dermatology of Northern Colorado\n\nCHECK OUT THE OFFERINGS AT MARINA MEDFIT:\n\nFull Service fitness classes and equipment\n\nPilates Reformer Training\n\nMedical Massage\n\nWater and Swim Therapy-salt water and therapy pools\, heated spa
X-ALT-DESC;FMTTYPE=text/html:The Medical Fitness Health Fair will offer a variety of FREE and LOW Cost health screenings to the community.&nbsp\; In addition to helth screenings\, there will be a variety of boohs providing educational information.<br>\nSCREENING OPORTUNITIES<br>\nTreadmill gate analysis- Water Valley PT<br>\nBone density screening - Aspen Club<br>\nVision Screening - Eye Cener of Northern Colorado<br>\nPostural Screening - Peak Performance Chiropractic/Wellness Center<br>\nBlood Pressure &amp\; Cholesterol Schreening - Healthy Hearts<br>\nBody Scan/Composition analysis - Max Muscle<br>\nAudio Screening - Peakview Audiology<br>\nThermography scan - Althoff Family Chiropractic<br>\nFoot Screening/pain Analysis-Rocky Mtn. Chiropractic<br>\nPrimitive Reflex Check - Brain Balance<br>\nEDUCATIONAL AND OTHER OPPORTUNITIES<br>\nChair Massage -MedFit Massage<br>\nAccupuncture Information - Fort Collins Accupuncture<br>\nMammogram information - Breast Services<br>\nSelf Skin Checks - Dermatology of Northern Colorado<br>\nCHECK OUT THE OFFERINGS AT MARINA MEDFIT:<br>\nFull Service fitness classes and equipment<br>\nPilates Reformer Training<br>\nMedical Massage<br>\nWater and Swim Therapy-salt water and therapy pools\, heated spa<br>\n&nbsp\;
LOCATION:1870 Marina Drive\, Windsor\, CO 80550
UID:e.2900.1515
SEQUENCE:3
DTSTAMP:20260424T014012Z
URL:https://business.windsorchamber.net/events/details/medical-fitness-health-fair-1515
END:VEVENT

END:VCALENDAR
