BEGIN:VCALENDAR
VERSION:2.0
PRODID:-//ChamberMaster//Event Calendar 2.0//EN
METHOD:PUBLISH
X-PUBLISHED-TTL:P3D
REFRESH-INTERVAL:P3D
CALSCALE:GREGORIAN
BEGIN:VEVENT
DTSTART:20190614T230000Z
DTEND:20190615T000000Z
X-MICROSOFT-CDO-ALLDAYEVENT:FALSE
SUMMARY:Meet & Greet
DESCRIPTION:Join the Chamber at High Hops for a fun evening of networking. This event is open to the entire Windsor business community. \n\n\n\nRegister here for 1 free drink ticket at the door.
X-ALT-DESC;FMTTYPE=text/html:Join the Chamber at High Hops for a fun evening of networking. This event is open to the entire Windsor business community.&nbsp\;<br />\n<br />\nRegister here for 1 free drink ticket at the door.&nbsp\;
LOCATION:High Hops Brewery
UID:e.2900.1637
SEQUENCE:3
DTSTAMP:20260422T191231Z
URL:https://business.windsorchamber.net/events/details/meet-greet-1637
END:VEVENT

END:VCALENDAR
