BEGIN:VCALENDAR
VERSION:2.0
PRODID:-//ChamberMaster//Event Calendar 2.0//EN
METHOD:PUBLISH
X-PUBLISHED-TTL:P3D
REFRESH-INTERVAL:P3D
CALSCALE:GREGORIAN
BEGIN:VEVENT
DTSTART:20190530T174500Z
DTEND:20190530T184500Z
X-MICROSOFT-CDO-ALLDAYEVENT:FALSE
SUMMARY:Member Orientation - May 30\, 2019
DESCRIPTION:Learn how to maximize your membership by understanding the Chamber's features\, benefits and opportunities. Join us for a 45 minute presentation that will include membership services\, networking and future programs.\n\n\n\nThis event is open to members and future members.
X-ALT-DESC;FMTTYPE=text/html:Learn how to maximize your membership by understanding the Chamber&#39\;s features\, benefits and opportunities. Join us for a 45 minute presentation that will include membership services\, networking and future programs.<br />\n<br />\nThis event is open to members and future members.
LOCATION:Clearview Library Large Meeting Room Enter the front doors and turn right.
UID:e.2900.1633
SEQUENCE:3
DTSTAMP:20260423T100540Z
URL:https://business.windsorchamber.net/events/details/member-orientation-may-30-2019-1633
END:VEVENT

END:VCALENDAR
